BEGIN:VCALENDAR
VERSION:2.0
PRODID:-//Anam Cara Ministries - ECPv6.15.20//NONSGML v1.0//EN
CALSCALE:GREGORIAN
METHOD:PUBLISH
X-WR-CALNAME:Anam Cara Ministries
X-ORIGINAL-URL:https://anamcara.com
X-WR-CALDESC:Events for Anam Cara Ministries
REFRESH-INTERVAL;VALUE=DURATION:PT1H
X-Robots-Tag:noindex
X-PUBLISHED-TTL:PT1H
BEGIN:VTIMEZONE
TZID:UTC
BEGIN:STANDARD
TZOFFSETFROM:+0000
TZOFFSETTO:+0000
TZNAME:UTC
DTSTART:20220101T000000
END:STANDARD
END:VTIMEZONE
BEGIN:VEVENT
DTSTART;TZID=UTC:20231102T190000
DTEND;TZID=UTC:20231105T120000
DTSTAMP:20260423T184429
CREATED:20230908T182924Z
LAST-MODIFIED:20230908T185955Z
UID:10004522-1698951600-1699185600@anamcara.com
SUMMARY:Ease: A Retreat For Spiritual Directors
DESCRIPTION:Join the Anam Cara community for a time of ease\, refreshment\, and renewal for you and your practice of spiritual direction. This retreat—designed to be a restful\, safe place for those whose ministry of listening has brought with it a heavy load over the last few years—is truly meant to ease the burdens and renew your soul. Led by the Anam Cara team and our speaker\, Aaron Niequist\, this four-day experience will involve liturgy and movement\, rest and rhythm. At a stunning\, recently refreshed property in the mountains of Colorado\, you will be offered all the ease the mountains and our ministry can offer.\n\n\nRetreat Durection: Thursday\, November 2 at 7 pm MT (with afternoon arrival on property and dinner out at a location nearby) to Sunday\, November 5 at 12 pm.\n\n\nCost of this retreat includes:\nEight staff-prepared meals (all sensitivities and needs accommodated)\nFull accommodation at the retreat property in Bailey\, CO\nHiking & amenities on the property\nDaily liturgy and content gathering\nLeading in ease and rest with guest speaker Aaron Niequist\nSouth bathing session\nSubsidized massage therapy on site (limited appointments available)\nAll retreat materials\nAnd a few special treats along the way!\n \n\nThis retreat center can only accommodate 21 people (not including our staff)\, and we only have two double occupancy (meaning rooms with two beds) available. All other rooms are private\, single occupancy. If you want to join us\, please register as soon as possible.\n\n\nYou will not be charged upon registration but will receive an invoice for $200 to hold your spot at the retreat. You will be invoiced for the remainder of the amount on October 15.\n\n\nFull cost for the retreat is:\n$850: single occupancy\n$750: double occupancy\n\n\nWe will be happy to help coordinate travel to the retreat center. It is approximately 1.5 hours away from Denver International Airport.\n\n\nShould you have any questions\, please let either Tara or Jeremy know. Please remember we have scholarships available.\n\n\nREGISTER HERE FOR SINGLE OCCUPANCY>> https://anamcara.as.me/Ease–Retreat\n\nREGISTER HERE FOR DOUBLE OCCUPANCY>> https://anamcara.as.me/Ease–Retreat-Double\n\n\nAs always\, scholarships are available for those in need and those in historically marginal communities.
URL:https://anamcara.com/event/ease-a-retreat-for-spiritual-directors/
LOCATION:Glen Isle Resort\, 573 Stagecoach\, Bailey\, CO\, 80421\, United States
CATEGORIES:Peregrini Workshops
ATTACH;FMTTYPE=image/png:https://anamcara.com/wp-content/uploads/2023/09/ease-Presentation-169.png
ORGANIZER;CN="Anam Cara":MAILTO:admin@anamcara.com
END:VEVENT
END:VCALENDAR