BEGIN:VCALENDAR
VERSION:2.0
PRODID:-//Anam Cara Ministries - ECPv6.15.20//NONSGML v1.0//EN
CALSCALE:GREGORIAN
METHOD:PUBLISH
X-ORIGINAL-URL:https://anamcara.com
X-WR-CALDESC:Events for Anam Cara Ministries
REFRESH-INTERVAL;VALUE=DURATION:PT1H
X-Robots-Tag:noindex
X-PUBLISHED-TTL:PT1H
BEGIN:VTIMEZONE
TZID:America/Denver
BEGIN:DAYLIGHT
TZOFFSETFROM:-0700
TZOFFSETTO:-0600
TZNAME:MDT
DTSTART:20210314T090000
END:DAYLIGHT
BEGIN:STANDARD
TZOFFSETFROM:-0600
TZOFFSETTO:-0700
TZNAME:MST
DTSTART:20211107T080000
END:STANDARD
BEGIN:DAYLIGHT
TZOFFSETFROM:-0700
TZOFFSETTO:-0600
TZNAME:MDT
DTSTART:20220313T090000
END:DAYLIGHT
BEGIN:STANDARD
TZOFFSETFROM:-0600
TZOFFSETTO:-0700
TZNAME:MST
DTSTART:20221106T080000
END:STANDARD
BEGIN:DAYLIGHT
TZOFFSETFROM:-0700
TZOFFSETTO:-0600
TZNAME:MDT
DTSTART:20230312T090000
END:DAYLIGHT
BEGIN:STANDARD
TZOFFSETFROM:-0600
TZOFFSETTO:-0700
TZNAME:MST
DTSTART:20231105T080000
END:STANDARD
BEGIN:DAYLIGHT
TZOFFSETFROM:-0700
TZOFFSETTO:-0600
TZNAME:MDT
DTSTART:20240310T090000
END:DAYLIGHT
BEGIN:STANDARD
TZOFFSETFROM:-0600
TZOFFSETTO:-0700
TZNAME:MST
DTSTART:20241103T080000
END:STANDARD
END:VTIMEZONE
BEGIN:VEVENT
DTSTART;TZID=America/Denver:20230127T180000
DTEND;TZID=America/Denver:20230127T210000
DTSTAMP:20260423T095545
CREATED:20230105T054310Z
LAST-MODIFIED:20230105T054310Z
UID:6524-1674842400-1674853200@anamcara.com
SUMMARY:Shabbat/Thank you Study with Rabbi Noah (Closed)
DESCRIPTION:A study that includes Sabbath prayers in gratitude for the supporters of Anam Cara and the ministry of Scripture Circles over the years.
URL:https://anamcara.com/event/shabbat-thank-you-study-with-rabbi-noah-closed/
CATEGORIES:Scripture Circles
END:VEVENT
BEGIN:VEVENT
DTSTART;TZID=America/Denver:20230128T090000
DTEND;TZID=America/Denver:20230128T120000
DTSTAMP:20260423T095545
CREATED:20230105T055922Z
LAST-MODIFIED:20230105T055922Z
UID:6534-1674896400-1674907200@anamcara.com
SUMMARY:Littleton Scripture Circle with Rabbi Noah (Open)
DESCRIPTION:
URL:https://anamcara.com/event/colorado-springs-scripture-circle-with-rabbi-noah-open-5/
CATEGORIES:Scripture Circles
END:VEVENT
BEGIN:VEVENT
DTSTART;TZID=America/Denver:20230128T180000
DTEND;TZID=America/Denver:20230128T210000
DTSTAMP:20260423T095545
CREATED:20230105T055258Z
LAST-MODIFIED:20230105T055258Z
UID:6526-1674928800-1674939600@anamcara.com
SUMMARY:Downing House Scripture Circle with Rabbi Noah (Closed)
DESCRIPTION:
URL:https://anamcara.com/event/downing-house-scripture-circle-with-rabbi-noah-closed/
CATEGORIES:Scripture Circles
END:VEVENT
BEGIN:VEVENT
DTSTART;TZID=America/Denver:20230129T120000
DTEND;TZID=America/Denver:20230129T143000
DTSTAMP:20260423T095545
CREATED:20230105T055531Z
LAST-MODIFIED:20230105T055531Z
UID:6532-1674993600-1675002600@anamcara.com
SUMMARY:Platt Park Church Scripture Circle with Rabbi Noah (Closed)
DESCRIPTION:
URL:https://anamcara.com/event/platt-park-church-scripture-circle-with-rabbi-noah-closed/
CATEGORIES:Scripture Circles
END:VEVENT
BEGIN:VEVENT
DTSTART;TZID=America/Denver:20230129T180000
DTEND;TZID=America/Denver:20230129T210000
DTSTAMP:20260423T095545
CREATED:20230105T055333Z
LAST-MODIFIED:20230105T055333Z
UID:6528-1675015200-1675026000@anamcara.com
SUMMARY:Downing House Scripture Circle with Rabbi Noah (Closed)
DESCRIPTION:
URL:https://anamcara.com/event/downing-house-scripture-circle-with-rabbi-noah-closed-2/
CATEGORIES:Scripture Circles
END:VEVENT
BEGIN:VEVENT
DTSTART;TZID=America/Denver:20230130T090000
DTEND;TZID=America/Denver:20230130T120000
DTSTAMP:20260423T095545
CREATED:20230105T055424Z
LAST-MODIFIED:20230105T055424Z
UID:6530-1675069200-1675080000@anamcara.com
SUMMARY:Downing House Scripture Circle with Rabbi Noah (Closed)
DESCRIPTION:
URL:https://anamcara.com/event/downing-house-scripture-circle-with-rabbi-noah-closed-3/
CATEGORIES:Scripture Circles
END:VEVENT
BEGIN:VEVENT
DTSTART;TZID=America/Denver:20230124T120000
DTEND;TZID=America/Denver:20230124T133000
DTSTAMP:20260423T095545
CREATED:20221210T155759Z
LAST-MODIFIED:20221210T155759Z
UID:6383-1674561600-1674567000@anamcara.com
SUMMARY:Scripture Circle with Julie Stoll
DESCRIPTION:Scripture circle\, socratic discussion\, engaging bible study. It goes by many names. Come join your voice into the discussion around the text
URL:https://anamcara.com/event/scripture-circle-with-julie-stoll-2023-01-24/
CATEGORIES:Scripture Circles
END:VEVENT
BEGIN:VEVENT
DTSTART;TZID=America/Denver:20230117T120000
DTEND;TZID=America/Denver:20230117T133000
DTSTAMP:20260423T095545
CREATED:20221210T155759Z
LAST-MODIFIED:20221210T155759Z
UID:6382-1673956800-1673962200@anamcara.com
SUMMARY:Scripture Circle with Julie Stoll
DESCRIPTION:Scripture circle\, socratic discussion\, engaging bible study. It goes by many names. Come join your voice into the discussion around the text
URL:https://anamcara.com/event/scripture-circle-with-julie-stoll-2023-01-17/
CATEGORIES:Scripture Circles
END:VEVENT
BEGIN:VEVENT
DTSTART;TZID=America/Denver:20230110T120000
DTEND;TZID=America/Denver:20230110T133000
DTSTAMP:20260423T095545
CREATED:20221210T155759Z
LAST-MODIFIED:20221210T155759Z
UID:6380-1673352000-1673357400@anamcara.com
SUMMARY:Scripture Circle with Julie Stoll
DESCRIPTION:Scripture circle\, socratic discussion\, engaging bible study. It goes by many names. Come join your voice into the discussion around the text
URL:https://anamcara.com/event/scripture-circle-with-julie-stoll/
CATEGORIES:Scripture Circles
END:VEVENT
BEGIN:VEVENT
DTSTART;TZID=America/Denver:20230131T120000
DTEND;TZID=America/Denver:20230131T133000
DTSTAMP:20260423T095545
CREATED:20221210T155759Z
LAST-MODIFIED:20221210T155759Z
UID:6384-1675166400-1675171800@anamcara.com
SUMMARY:Scripture Circle with Julie Stoll
DESCRIPTION:Scripture circle\, socratic discussion\, engaging bible study. It goes by many names. Come join your voice into the discussion around the text
URL:https://anamcara.com/event/scripture-circle-with-julie-stoll-2023-01-31/
CATEGORIES:Scripture Circles
END:VEVENT
BEGIN:VEVENT
DTSTART;TZID=America/Denver:20230104T073000
DTEND;TZID=America/Denver:20230104T090000
DTSTAMP:20260423T095545
CREATED:20221210T160413Z
LAST-MODIFIED:20221210T160413Z
UID:6393-1672817400-1672822800@anamcara.com
SUMMARY:People In Ministry Online Scripture Circle (6 week cohort)
DESCRIPTION:People in Ministry 6 week Cohort led by Julie Stoll. Scripture Circle. A time to come together\, be refreshed\, encouraged and fed. A safe place to explore ideas and questions of the scripture. Share passion for helping people navigate life challenges. Must have attended at least 4 scripture circles (online or in person with any teacher) before cohort begins. 6 weeks of Wednesdays\, Jan. 4\, 11\, 18\, 25\, Feb. 1\, 8 7:30-9am MT. Limited to 11 participants. Each study will be recorded and available to the participants. $120
URL:https://anamcara.com/event/people-in-ministry-online-scripture-circle-6-week-cohort-2/
CATEGORIES:Scripture Circles
END:VEVENT
BEGIN:VEVENT
DTSTART;TZID=America/Denver:20230131T120000
DTEND;TZID=America/Denver:20230131T133000
DTSTAMP:20260423T095545
CREATED:20221210T155759Z
LAST-MODIFIED:20221210T155759Z
UID:6384-1675166400-1675171800@anamcara.com
SUMMARY:Scripture Circle with Julie Stoll
DESCRIPTION:Scripture circle\, socratic discussion\, engaging bible study. It goes by many names. Come join your voice into the discussion around the text
URL:https://anamcara.com/event/scripture-circle-with-julie-stoll-2023-01-31/
CATEGORIES:Scripture Circles
END:VEVENT
BEGIN:VEVENT
DTSTART;TZID=America/Denver:20230124T120000
DTEND;TZID=America/Denver:20230124T133000
DTSTAMP:20260423T095545
CREATED:20221210T155759Z
LAST-MODIFIED:20221210T155759Z
UID:6383-1674561600-1674567000@anamcara.com
SUMMARY:Scripture Circle with Julie Stoll
DESCRIPTION:Scripture circle\, socratic discussion\, engaging bible study. It goes by many names. Come join your voice into the discussion around the text
URL:https://anamcara.com/event/scripture-circle-with-julie-stoll-2023-01-24/
CATEGORIES:Scripture Circles
END:VEVENT
BEGIN:VEVENT
DTSTART;TZID=America/Denver:20230117T120000
DTEND;TZID=America/Denver:20230117T133000
DTSTAMP:20260423T095545
CREATED:20221210T155759Z
LAST-MODIFIED:20221210T155759Z
UID:6382-1673956800-1673962200@anamcara.com
SUMMARY:Scripture Circle with Julie Stoll
DESCRIPTION:Scripture circle\, socratic discussion\, engaging bible study. It goes by many names. Come join your voice into the discussion around the text
URL:https://anamcara.com/event/scripture-circle-with-julie-stoll-2023-01-17/
CATEGORIES:Scripture Circles
END:VEVENT
BEGIN:VEVENT
DTSTART;TZID=America/Denver:20230207T120000
DTEND;TZID=America/Denver:20230207T133000
DTSTAMP:20260423T095545
CREATED:20221210T155759Z
LAST-MODIFIED:20221210T155759Z
UID:6385-1675771200-1675776600@anamcara.com
SUMMARY:Scripture Circle with Julie Stoll
DESCRIPTION:Scripture circle\, socratic discussion\, engaging bible study. It goes by many names. Come join your voice into the discussion around the text
URL:https://anamcara.com/event/scripture-circle-with-julie-stoll-2023-02-07/
CATEGORIES:Scripture Circles
END:VEVENT
BEGIN:VEVENT
DTSTART;TZID=America/Denver:20230104T073000
DTEND;TZID=America/Denver:20230104T090000
DTSTAMP:20260423T095545
CREATED:20221210T160413Z
LAST-MODIFIED:20221210T160413Z
UID:6393-1672817400-1672822800@anamcara.com
SUMMARY:People In Ministry Online Scripture Circle (6 week cohort)
DESCRIPTION:People in Ministry 6 week Cohort led by Julie Stoll. Scripture Circle. A time to come together\, be refreshed\, encouraged and fed. A safe place to explore ideas and questions of the scripture. Share passion for helping people navigate life challenges. Must have attended at least 4 scripture circles (online or in person with any teacher) before cohort begins. 6 weeks of Wednesdays\, Jan. 4\, 11\, 18\, 25\, Feb. 1\, 8 7:30-9am MT. Limited to 11 participants. Each study will be recorded and available to the participants. $120
URL:https://anamcara.com/event/people-in-ministry-online-scripture-circle-6-week-cohort-2/
CATEGORIES:Scripture Circles
END:VEVENT
BEGIN:VEVENT
DTSTART;TZID=America/Denver:20221012T180000
DTEND;TZID=America/Denver:20221012T210000
DTSTAMP:20260423T095545
CREATED:20220928T181811Z
LAST-MODIFIED:20220928T181811Z
UID:6185-1665597600-1665608400@anamcara.com
SUMMARY:Open Online Scripture Circle
DESCRIPTION:This is a Scripture Circle led by a teacher with the Anam Cara Community. Scripture Circles—an experience of community centered around the Word—are an experience of studying the Scriptures that is practical and pastoral\, scholarly and mystical\, personal and communal. Each Scripture Circle is a remarkable experience of communion with God and others—a unique experience made more so by your participation: no one else has your story\, your eyes\, and the gifts you bring to studying Scripture.
URL:https://anamcara.com/event/open-online-scripture-circle/
CATEGORIES:Scripture Circles
END:VEVENT
BEGIN:VEVENT
DTSTART;TZID=America/Denver:20230208T180000
DTEND;TZID=America/Denver:20230208T210000
DTSTAMP:20260423T095545
CREATED:20220928T181811Z
LAST-MODIFIED:20220928T181811Z
UID:6190-1675879200-1675890000@anamcara.com
SUMMARY:Open Online Scripture Circle
DESCRIPTION:This is a Scripture Circle led by a teacher with the Anam Cara Community. Scripture Circles—an experience of community centered around the Word—are an experience of studying the Scriptures that is practical and pastoral\, scholarly and mystical\, personal and communal. Each Scripture Circle is a remarkable experience of communion with God and others—a unique experience made more so by your participation: no one else has your story\, your eyes\, and the gifts you bring to studying Scripture.
URL:https://anamcara.com/event/open-online-scripture-circle-2023-02-08/
CATEGORIES:Scripture Circles
END:VEVENT
BEGIN:VEVENT
DTSTART;TZID=America/Denver:20230111T180000
DTEND;TZID=America/Denver:20230111T210000
DTSTAMP:20260423T095545
CREATED:20220928T181811Z
LAST-MODIFIED:20220928T181811Z
UID:6189-1673460000-1673470800@anamcara.com
SUMMARY:Open Online Scripture Circle
DESCRIPTION:This is a Scripture Circle led by a teacher with the Anam Cara Community. Scripture Circles—an experience of community centered around the Word—are an experience of studying the Scriptures that is practical and pastoral\, scholarly and mystical\, personal and communal. Each Scripture Circle is a remarkable experience of communion with God and others—a unique experience made more so by your participation: no one else has your story\, your eyes\, and the gifts you bring to studying Scripture.
URL:https://anamcara.com/event/open-online-scripture-circle-2023-01-11/
CATEGORIES:Scripture Circles
END:VEVENT
BEGIN:VEVENT
DTSTART;TZID=America/Denver:20221214T180000
DTEND;TZID=America/Denver:20221214T210000
DTSTAMP:20260423T095545
CREATED:20220928T181811Z
LAST-MODIFIED:20220928T181811Z
UID:6188-1671040800-1671051600@anamcara.com
SUMMARY:Open Online Scripture Circle
DESCRIPTION:This is a Scripture Circle led by a teacher with the Anam Cara Community. Scripture Circles—an experience of community centered around the Word—are an experience of studying the Scriptures that is practical and pastoral\, scholarly and mystical\, personal and communal. Each Scripture Circle is a remarkable experience of communion with God and others—a unique experience made more so by your participation: no one else has your story\, your eyes\, and the gifts you bring to studying Scripture.
URL:https://anamcara.com/event/open-online-scripture-circle-2022-12-14/
CATEGORIES:Scripture Circles
END:VEVENT
BEGIN:VEVENT
DTSTART;TZID=America/Denver:20221109T180000
DTEND;TZID=America/Denver:20221109T210000
DTSTAMP:20260423T095545
CREATED:20220928T181811Z
LAST-MODIFIED:20220928T181811Z
UID:6187-1668016800-1668027600@anamcara.com
SUMMARY:Open Online Scripture Circle
DESCRIPTION:This is a Scripture Circle led by a teacher with the Anam Cara Community. Scripture Circles—an experience of community centered around the Word—are an experience of studying the Scriptures that is practical and pastoral\, scholarly and mystical\, personal and communal. Each Scripture Circle is a remarkable experience of communion with God and others—a unique experience made more so by your participation: no one else has your story\, your eyes\, and the gifts you bring to studying Scripture.
URL:https://anamcara.com/event/open-online-scripture-circle-2022-11-09/
CATEGORIES:Scripture Circles
END:VEVENT
BEGIN:VEVENT
DTSTART;TZID=America/Denver:20230214T120000
DTEND;TZID=America/Denver:20230214T133000
DTSTAMP:20260423T095545
CREATED:20221210T155759Z
LAST-MODIFIED:20221210T155759Z
UID:6386-1676376000-1676381400@anamcara.com
SUMMARY:Scripture Circle with Julie Stoll
DESCRIPTION:Scripture circle\, socratic discussion\, engaging bible study. It goes by many names. Come join your voice into the discussion around the text
URL:https://anamcara.com/event/scripture-circle-with-julie-stoll-2023-02-14/
CATEGORIES:Scripture Circles
END:VEVENT
BEGIN:VEVENT
DTSTART;TZID=America/Denver:20230131T120000
DTEND;TZID=America/Denver:20230131T133000
DTSTAMP:20260423T095545
CREATED:20221210T155759Z
LAST-MODIFIED:20221210T155759Z
UID:6384-1675166400-1675171800@anamcara.com
SUMMARY:Scripture Circle with Julie Stoll
DESCRIPTION:Scripture circle\, socratic discussion\, engaging bible study. It goes by many names. Come join your voice into the discussion around the text
URL:https://anamcara.com/event/scripture-circle-with-julie-stoll-2023-01-31/
CATEGORIES:Scripture Circles
END:VEVENT
BEGIN:VEVENT
DTSTART;TZID=America/Denver:20230124T120000
DTEND;TZID=America/Denver:20230124T133000
DTSTAMP:20260423T095545
CREATED:20221210T155759Z
LAST-MODIFIED:20221210T155759Z
UID:6383-1674561600-1674567000@anamcara.com
SUMMARY:Scripture Circle with Julie Stoll
DESCRIPTION:Scripture circle\, socratic discussion\, engaging bible study. It goes by many names. Come join your voice into the discussion around the text
URL:https://anamcara.com/event/scripture-circle-with-julie-stoll-2023-01-24/
CATEGORIES:Scripture Circles
END:VEVENT
BEGIN:VEVENT
DTSTART;TZID=America/Denver:20230117T120000
DTEND;TZID=America/Denver:20230117T133000
DTSTAMP:20260423T095545
CREATED:20221210T155759Z
LAST-MODIFIED:20221210T155759Z
UID:6382-1673956800-1673962200@anamcara.com
SUMMARY:Scripture Circle with Julie Stoll
DESCRIPTION:Scripture circle\, socratic discussion\, engaging bible study. It goes by many names. Come join your voice into the discussion around the text
URL:https://anamcara.com/event/scripture-circle-with-julie-stoll-2023-01-17/
CATEGORIES:Scripture Circles
END:VEVENT
BEGIN:VEVENT
DTSTART;TZID=America/Denver:20230207T120000
DTEND;TZID=America/Denver:20230207T133000
DTSTAMP:20260423T095545
CREATED:20221210T155759Z
LAST-MODIFIED:20221210T155759Z
UID:6385-1675771200-1675776600@anamcara.com
SUMMARY:Scripture Circle with Julie Stoll
DESCRIPTION:Scripture circle\, socratic discussion\, engaging bible study. It goes by many names. Come join your voice into the discussion around the text
URL:https://anamcara.com/event/scripture-circle-with-julie-stoll-2023-02-07/
CATEGORIES:Scripture Circles
END:VEVENT
BEGIN:VEVENT
DTSTART;TZID=America/Denver:20221022T090000
DTEND;TZID=America/Denver:20221022T120000
DTSTAMP:20260423T095545
CREATED:20220928T182229Z
LAST-MODIFIED:20220928T182229Z
UID:6194-1666429200-1666440000@anamcara.com
SUMMARY:Open Online Scripture Circle
DESCRIPTION:This is a Scripture Circle led by a teacher with the Anam Cara Community. Scripture Circles—an experience of community centered around the Word—are an experience of studying the Scriptures that is practical and pastoral\, scholarly and mystical\, personal and communal. Each Scripture Circle is a remarkable experience of communion with God and others—a unique experience made more so by your participation: no one else has your story\, your eyes\, and the gifts you bring to studying Scripture.
URL:https://anamcara.com/event/open-online-scripture-circle-2/
CATEGORIES:Scripture Circles
END:VEVENT
BEGIN:VEVENT
DTSTART;TZID=America/Denver:20230218T090000
DTEND;TZID=America/Denver:20230218T120000
DTSTAMP:20260423T095545
CREATED:20220928T182229Z
LAST-MODIFIED:20220928T182229Z
UID:6199-1676710800-1676721600@anamcara.com
SUMMARY:Open Online Scripture Circle
DESCRIPTION:This is a Scripture Circle led by a teacher with the Anam Cara Community. Scripture Circles—an experience of community centered around the Word—are an experience of studying the Scriptures that is practical and pastoral\, scholarly and mystical\, personal and communal. Each Scripture Circle is a remarkable experience of communion with God and others—a unique experience made more so by your participation: no one else has your story\, your eyes\, and the gifts you bring to studying Scripture.
URL:https://anamcara.com/event/open-online-scripture-circle-2-2023-02-18/
CATEGORIES:Scripture Circles
END:VEVENT
BEGIN:VEVENT
DTSTART;TZID=America/Denver:20230121T090000
DTEND;TZID=America/Denver:20230121T120000
DTSTAMP:20260423T095545
CREATED:20220928T182229Z
LAST-MODIFIED:20220928T182229Z
UID:6198-1674291600-1674302400@anamcara.com
SUMMARY:Open Online Scripture Circle
DESCRIPTION:This is a Scripture Circle led by a teacher with the Anam Cara Community. Scripture Circles—an experience of community centered around the Word—are an experience of studying the Scriptures that is practical and pastoral\, scholarly and mystical\, personal and communal. Each Scripture Circle is a remarkable experience of communion with God and others—a unique experience made more so by your participation: no one else has your story\, your eyes\, and the gifts you bring to studying Scripture.
URL:https://anamcara.com/event/open-online-scripture-circle-2-2023-01-21/
CATEGORIES:Scripture Circles
END:VEVENT
BEGIN:VEVENT
DTSTART;TZID=America/Denver:20221217T090000
DTEND;TZID=America/Denver:20221217T120000
DTSTAMP:20260423T095545
CREATED:20220928T182229Z
LAST-MODIFIED:20220928T182229Z
UID:6197-1671267600-1671278400@anamcara.com
SUMMARY:Open Online Scripture Circle
DESCRIPTION:This is a Scripture Circle led by a teacher with the Anam Cara Community. Scripture Circles—an experience of community centered around the Word—are an experience of studying the Scriptures that is practical and pastoral\, scholarly and mystical\, personal and communal. Each Scripture Circle is a remarkable experience of communion with God and others—a unique experience made more so by your participation: no one else has your story\, your eyes\, and the gifts you bring to studying Scripture.
URL:https://anamcara.com/event/open-online-scripture-circle-2-2022-12-17/
CATEGORIES:Scripture Circles
END:VEVENT
END:VCALENDAR