BEGIN:VCALENDAR
VERSION:2.0
PRODID:-//Anam Cara Ministries - ECPv6.15.20//NONSGML v1.0//EN
CALSCALE:GREGORIAN
METHOD:PUBLISH
X-ORIGINAL-URL:https://anamcara.com
X-WR-CALDESC:Events for Anam Cara Ministries
REFRESH-INTERVAL;VALUE=DURATION:PT1H
X-Robots-Tag:noindex
X-PUBLISHED-TTL:PT1H
BEGIN:VTIMEZONE
TZID:America/Denver
BEGIN:DAYLIGHT
TZOFFSETFROM:-0700
TZOFFSETTO:-0600
TZNAME:MDT
DTSTART:20220313T090000
END:DAYLIGHT
BEGIN:STANDARD
TZOFFSETFROM:-0600
TZOFFSETTO:-0700
TZNAME:MST
DTSTART:20221106T080000
END:STANDARD
BEGIN:DAYLIGHT
TZOFFSETFROM:-0700
TZOFFSETTO:-0600
TZNAME:MDT
DTSTART:20230312T090000
END:DAYLIGHT
BEGIN:STANDARD
TZOFFSETFROM:-0600
TZOFFSETTO:-0700
TZNAME:MST
DTSTART:20231105T080000
END:STANDARD
BEGIN:DAYLIGHT
TZOFFSETFROM:-0700
TZOFFSETTO:-0600
TZNAME:MDT
DTSTART:20240310T090000
END:DAYLIGHT
BEGIN:STANDARD
TZOFFSETFROM:-0600
TZOFFSETTO:-0700
TZNAME:MST
DTSTART:20241103T080000
END:STANDARD
END:VTIMEZONE
BEGIN:VEVENT
DTSTART;TZID=America/Denver:20230712T170000
DTEND;TZID=America/Denver:20230712T200000
DTSTAMP:20260424T043523
CREATED:20230629T191159Z
LAST-MODIFIED:20230907T171520Z
UID:10004435-1689181200-1689192000@anamcara.com
SUMMARY:Rooted Scripture Circle with Jeremy Frye
DESCRIPTION:These Scripture Circles are meant for a specific community that is traveling together over time (a small group\, family group\, or small community). This could be over several months as a theme is explored (justice\, grace\, or love\, for example)\, or for much longer as the group dives deeper into Scripture and sacred community. \nThis Rooted Study will be lead by Jeremy Frye. We will meet on the 2nd Wednesday evening of the month at 5pm MT for 6 months.  The group is limited to 12 people. \nIf you have a group that is interested in participating in a rooted study together\, send us an email. We would be happy to talk with you about leading a study for your group.
URL:https://anamcara.com/event/rooted-scripture-circle-with-jeremy-frye/2023-07-12/
CATEGORIES:Scripture Circles
END:VEVENT
BEGIN:VEVENT
DTSTART;TZID=America/Denver:20230802T180000
DTEND;TZID=America/Denver:20230802T210000
DTSTAMP:20260424T043523
CREATED:20230629T191957Z
LAST-MODIFIED:20230629T191957Z
UID:10004442-1690999200-1691010000@anamcara.com
SUMMARY:Open Online Scripture Circle with Tara Owens
DESCRIPTION:Scripture Circles—a regular gathering of community centered around the Word—are an experience of studying the Scriptures that is practical and pastoral\, scholarly and mystical\, personal and communal. Each Scripture Circle is a remarkable experience of communion with God and others—a unique journey made more so by your participation: no one else has your story\, your eyes\, and the gifts you bring to the study of Scripture.
URL:https://anamcara.com/event/open-online-scripture-circle-with-tara-owens/2023-08-02/
CATEGORIES:Scripture Circles
END:VEVENT
BEGIN:VEVENT
DTSTART;TZID=America/Denver:20230809T170000
DTEND;TZID=America/Denver:20230809T200000
DTSTAMP:20260424T043523
CREATED:20230629T191159Z
LAST-MODIFIED:20230907T171520Z
UID:10004436-1691600400-1691611200@anamcara.com
SUMMARY:Rooted Scripture Circle with Jeremy Frye
DESCRIPTION:These Scripture Circles are meant for a specific community that is traveling together over time (a small group\, family group\, or small community). This could be over several months as a theme is explored (justice\, grace\, or love\, for example)\, or for much longer as the group dives deeper into Scripture and sacred community. \nThis Rooted Study will be lead by Jeremy Frye. We will meet on the 2nd Wednesday evening of the month at 5pm MT for 6 months.  The group is limited to 12 people. \nIf you have a group that is interested in participating in a rooted study together\, send us an email. We would be happy to talk with you about leading a study for your group.
URL:https://anamcara.com/event/rooted-scripture-circle-with-jeremy-frye/2023-08-09/
CATEGORIES:Scripture Circles
END:VEVENT
BEGIN:VEVENT
DTSTART;TZID=America/Denver:20230812T090000
DTEND;TZID=America/Denver:20230812T120000
DTSTAMP:20260424T043523
CREATED:20230105T070145Z
LAST-MODIFIED:20240701T195515Z
UID:10004387-1691830800-1691841600@anamcara.com
SUMMARY:Franklin Scripture Circle
DESCRIPTION:This is a Scripture Circle led by Jeremy Frye in Franklin\, TN. Scripture Circles are an experience of community centered around the Word—are an experience of studying the Scriptures that is practical and pastoral\, scholarly and mystical\, personal and communal. Each Scripture Circle is a remarkable experience of communion with God and others—a unique experience made more so by your participation: no one else has your story\, your eyes\, and the gifts you bring to studying Scripture. \nIf you are local to the Nashville/Franklin area and would like to attend\, you can register by clicking the link. \nRegister Here
URL:https://anamcara.com/event/franklin-scripture-circle-closed/2023-08-12/
CATEGORIES:Scripture Circles
END:VEVENT
BEGIN:VEVENT
DTSTART;TZID=America/Denver:20230909T090000
DTEND;TZID=America/Denver:20230909T120000
DTSTAMP:20260424T043523
CREATED:20230105T070145Z
LAST-MODIFIED:20240701T195515Z
UID:10004388-1694250000-1694260800@anamcara.com
SUMMARY:Franklin Scripture Circle
DESCRIPTION:This is a Scripture Circle led by Jeremy Frye in Franklin\, TN. Scripture Circles are an experience of community centered around the Word—are an experience of studying the Scriptures that is practical and pastoral\, scholarly and mystical\, personal and communal. Each Scripture Circle is a remarkable experience of communion with God and others—a unique experience made more so by your participation: no one else has your story\, your eyes\, and the gifts you bring to studying Scripture. \nIf you are local to the Nashville/Franklin area and would like to attend\, you can register by clicking the link. \nRegister Here
URL:https://anamcara.com/event/franklin-scripture-circle-closed/2023-09-09/
CATEGORIES:Scripture Circles
END:VEVENT
BEGIN:VEVENT
DTSTART;TZID=America/Denver:20230913T170000
DTEND;TZID=America/Denver:20230913T200000
DTSTAMP:20260424T043523
CREATED:20230629T191159Z
LAST-MODIFIED:20230907T171520Z
UID:10004437-1694624400-1694635200@anamcara.com
SUMMARY:Rooted Scripture Circle with Jeremy Frye
DESCRIPTION:These Scripture Circles are meant for a specific community that is traveling together over time (a small group\, family group\, or small community). This could be over several months as a theme is explored (justice\, grace\, or love\, for example)\, or for much longer as the group dives deeper into Scripture and sacred community. \nThis Rooted Study will be lead by Jeremy Frye. We will meet on the 2nd Wednesday evening of the month at 5pm MT for 6 months.  The group is limited to 12 people. \nIf you have a group that is interested in participating in a rooted study together\, send us an email. We would be happy to talk with you about leading a study for your group.
URL:https://anamcara.com/event/rooted-scripture-circle-with-jeremy-frye/2023-09-13/
CATEGORIES:Scripture Circles
END:VEVENT
BEGIN:VEVENT
DTSTART;TZID=America/Denver:20230914T170000
DTEND;TZID=America/Denver:20230914T200000
DTSTAMP:20260424T043523
CREATED:20230907T004016Z
LAST-MODIFIED:20230907T171946Z
UID:10004464-1694710800-1694721600@anamcara.com
SUMMARY:Rooted Scripture Circle with Jeremy Frye
DESCRIPTION:These Scripture Circles are meant for a specific community that is traveling together over time (a small group\, family group\, or small community). This could be over several months as a theme is explored (justice\, grace\, or love\, for example)\, or for much longer as the group dives deeper into Scripture and sacred community. \nThis Rooted Study will be lead by Jeremy Frye. We will meet on the 2nd Thursday evening of the month at 5pm MT for 6 months.  The group is limited to 12 people. \nIf you have a group that is interested in participating in a rooted study together\, send us an email. We would be happy to talk with you about leading a study for your group.
URL:https://anamcara.com/event/rooted-scripture-circle-with-jeremy-frye-2/2023-09-14/
LOCATION:Online Via Zoom
CATEGORIES:Scripture Circles
ORGANIZER;CN="Anam Cara":MAILTO:admin@anamcara.com
END:VEVENT
BEGIN:VEVENT
DTSTART;TZID=America/Denver:20230923T090000
DTEND;TZID=America/Denver:20230923T120000
DTSTAMP:20260424T043523
CREATED:20230908T183426Z
LAST-MODIFIED:20230908T183426Z
UID:10004559-1695459600-1695470400@anamcara.com
SUMMARY:#WTH Scripture Circle (Closed)
DESCRIPTION:
URL:https://anamcara.com/event/wth-scripture-circle-closed-2/
CATEGORIES:Scripture Circles
END:VEVENT
BEGIN:VEVENT
DTSTART;TZID=America/Denver:20230923T130000
DTEND;TZID=America/Denver:20230923T160000
DTSTAMP:20260424T043523
CREATED:20230908T183058Z
LAST-MODIFIED:20230908T183058Z
UID:10004535-1695474000-1695484800@anamcara.com
SUMMARY:Neighborhood Church Scripture Circle (Closed)
DESCRIPTION:
URL:https://anamcara.com/event/neighborhood-church-scripture-circle-closed-7/
CATEGORIES:Scripture Circles
ORGANIZER;CN="Anam Cara":MAILTO:admin@anamcara.com
END:VEVENT
BEGIN:VEVENT
DTSTART;TZID=America/Denver:20230923T180000
DTEND;TZID=America/Denver:20230923T210000
DTSTAMP:20260424T043523
CREATED:20230908T182849Z
LAST-MODIFIED:20230908T182849Z
UID:10004509-1695492000-1695502800@anamcara.com
SUMMARY:Boulder Scripture Circle (Open)
DESCRIPTION:To register for this scripture circle\, contact Leah at All Souls Boulder Church. leah@allsoulsboulder.org
URL:https://anamcara.com/event/boulder-scripture-circle-open-6/
CATEGORIES:Scripture Circles
END:VEVENT
BEGIN:VEVENT
DTSTART;VALUE=DATE:20230929
DTEND;VALUE=DATE:20231009
DTSTAMP:20260424T043523
CREATED:20230907T174149Z
LAST-MODIFIED:20230907T174149Z
UID:10004495-1695945600-1696809599@anamcara.com
SUMMARY:Colorado Scripture Circles with Rabbi Noah
DESCRIPTION:Noah will be in town leading a series of scripture circles for several communities that gather regularly for study.  If you would like to host a group the next time Noah is in town\, send us an email.  We’ll be happy to talk with you about joining the scripture circle community. \nEmail Us
URL:https://anamcara.com/event/colorado-scripture-circles-with-rabbi-noah-2/
CATEGORIES:Scripture Circles
END:VEVENT
BEGIN:VEVENT
DTSTART;TZID=America/Denver:20231004T170000
DTEND;TZID=America/Denver:20231004T200000
DTSTAMP:20260424T043523
CREATED:20230907T172705Z
LAST-MODIFIED:20230907T172705Z
UID:10004471-1696438800-1696449600@anamcara.com
SUMMARY:Open Online Scripture Circle
DESCRIPTION:This is a Scripture Circle led by a teacher with the Anam Cara Community. Scripture Circles—an experience of community centered around the Word—are an experience of studying the Scriptures that is practical and pastoral\, scholarly and mystical\, personal and communal. Each Scripture Circle is a remarkable experience of communion with God and others—a unique experience made more so by your participation: no one else has your story\, your eyes\, and the gifts you bring to studying Scripture. \nRegister Here
URL:https://anamcara.com/event/open-online-scripture-circle-3/2023-10-04/
CATEGORIES:Scripture Circles
END:VEVENT
BEGIN:VEVENT
DTSTART;TZID=America/Denver:20231011T170000
DTEND;TZID=America/Denver:20231011T200000
DTSTAMP:20260424T043523
CREATED:20230629T191159Z
LAST-MODIFIED:20230907T171520Z
UID:10004438-1697043600-1697054400@anamcara.com
SUMMARY:Rooted Scripture Circle with Jeremy Frye
DESCRIPTION:These Scripture Circles are meant for a specific community that is traveling together over time (a small group\, family group\, or small community). This could be over several months as a theme is explored (justice\, grace\, or love\, for example)\, or for much longer as the group dives deeper into Scripture and sacred community. \nThis Rooted Study will be lead by Jeremy Frye. We will meet on the 2nd Wednesday evening of the month at 5pm MT for 6 months.  The group is limited to 12 people. \nIf you have a group that is interested in participating in a rooted study together\, send us an email. We would be happy to talk with you about leading a study for your group.
URL:https://anamcara.com/event/rooted-scripture-circle-with-jeremy-frye/2023-10-11/
CATEGORIES:Scripture Circles
END:VEVENT
BEGIN:VEVENT
DTSTART;TZID=America/Denver:20231012T170000
DTEND;TZID=America/Denver:20231012T200000
DTSTAMP:20260424T043523
CREATED:20230907T004016Z
LAST-MODIFIED:20230907T171946Z
UID:10004465-1697130000-1697140800@anamcara.com
SUMMARY:Rooted Scripture Circle with Jeremy Frye
DESCRIPTION:These Scripture Circles are meant for a specific community that is traveling together over time (a small group\, family group\, or small community). This could be over several months as a theme is explored (justice\, grace\, or love\, for example)\, or for much longer as the group dives deeper into Scripture and sacred community. \nThis Rooted Study will be lead by Jeremy Frye. We will meet on the 2nd Thursday evening of the month at 5pm MT for 6 months.  The group is limited to 12 people. \nIf you have a group that is interested in participating in a rooted study together\, send us an email. We would be happy to talk with you about leading a study for your group.
URL:https://anamcara.com/event/rooted-scripture-circle-with-jeremy-frye-2/2023-10-12/
LOCATION:Online Via Zoom
CATEGORIES:Scripture Circles
ORGANIZER;CN="Anam Cara":MAILTO:admin@anamcara.com
END:VEVENT
BEGIN:VEVENT
DTSTART;TZID=America/Denver:20231014T090000
DTEND;TZID=America/Denver:20231014T120000
DTSTAMP:20260424T043523
CREATED:20230105T070145Z
LAST-MODIFIED:20240701T195515Z
UID:10004389-1697274000-1697284800@anamcara.com
SUMMARY:Franklin Scripture Circle
DESCRIPTION:This is a Scripture Circle led by Jeremy Frye in Franklin\, TN. Scripture Circles are an experience of community centered around the Word—are an experience of studying the Scriptures that is practical and pastoral\, scholarly and mystical\, personal and communal. Each Scripture Circle is a remarkable experience of communion with God and others—a unique experience made more so by your participation: no one else has your story\, your eyes\, and the gifts you bring to studying Scripture. \nIf you are local to the Nashville/Franklin area and would like to attend\, you can register by clicking the link. \nRegister Here
URL:https://anamcara.com/event/franklin-scripture-circle-closed/2023-10-14/
CATEGORIES:Scripture Circles
END:VEVENT
BEGIN:VEVENT
DTSTART;TZID=America/Denver:20231019T180000
DTEND;TZID=America/Denver:20231019T210000
DTSTAMP:20260424T043523
CREATED:20230920T043156Z
LAST-MODIFIED:20230920T043156Z
UID:10004581-1697738400-1697749200@anamcara.com
SUMMARY:Monthly Scripture Circle with Julie Stoll
DESCRIPTION:Join us for a scripture circle study where we delve deep into the ancient texts and explore the original context and language in sacred community. In this discussion\, we encourage participants to bring their personal experiences and insights\, as we believe that everyone’s voice and experience are important in helping us truly understand the scripture and the impact in our lives.\n\nRegister Here
URL:https://anamcara.com/event/monthly-scripture-circle-with-julie-stoll-4/2023-10-19/
LOCATION:Online Via Zoom
CATEGORIES:Scripture Circles
END:VEVENT
BEGIN:VEVENT
DTSTART;TZID=America/Denver:20231023T120000
DTEND;TZID=America/Denver:20231023T133000
DTSTAMP:20260424T043523
CREATED:20230920T042209Z
LAST-MODIFIED:20230921T231459Z
UID:10004575-1698062400-1698067800@anamcara.com
SUMMARY:Monthly Scripture Circle with Julie Stoll
DESCRIPTION:Join Julie Stoll for this open online scripture circle. \nScripture circles provide a space for deep reflection and contemplation\, allowing participants to engage with the Creator\, themselves\, and concepts contained within the scriptures. By exploring these texts in a collective setting\, participants are able to gain new perspectives\, share insights\, and deepen their understanding of the material. \nRegister Here
URL:https://anamcara.com/event/monthly-scripture-circle-with-julie-stoll-3/2023-10-23/
LOCATION:Online Via Zoom
CATEGORIES:Scripture Circles
END:VEVENT
BEGIN:VEVENT
DTSTART;TZID=America/Denver:20231101T170000
DTEND;TZID=America/Denver:20231101T200000
DTSTAMP:20260424T043523
CREATED:20230907T172705Z
LAST-MODIFIED:20230907T172705Z
UID:10004472-1698858000-1698868800@anamcara.com
SUMMARY:Open Online Scripture Circle
DESCRIPTION:This is a Scripture Circle led by a teacher with the Anam Cara Community. Scripture Circles—an experience of community centered around the Word—are an experience of studying the Scriptures that is practical and pastoral\, scholarly and mystical\, personal and communal. Each Scripture Circle is a remarkable experience of communion with God and others—a unique experience made more so by your participation: no one else has your story\, your eyes\, and the gifts you bring to studying Scripture. \nRegister Here
URL:https://anamcara.com/event/open-online-scripture-circle-3/2023-11-01/
CATEGORIES:Scripture Circles
END:VEVENT
BEGIN:VEVENT
DTSTART;TZID=America/Denver:20231108T170000
DTEND;TZID=America/Denver:20231108T200000
DTSTAMP:20260424T043523
CREATED:20230629T191159Z
LAST-MODIFIED:20230907T171520Z
UID:10004439-1699462800-1699473600@anamcara.com
SUMMARY:Rooted Scripture Circle with Jeremy Frye
DESCRIPTION:These Scripture Circles are meant for a specific community that is traveling together over time (a small group\, family group\, or small community). This could be over several months as a theme is explored (justice\, grace\, or love\, for example)\, or for much longer as the group dives deeper into Scripture and sacred community. \nThis Rooted Study will be lead by Jeremy Frye. We will meet on the 2nd Wednesday evening of the month at 5pm MT for 6 months.  The group is limited to 12 people. \nIf you have a group that is interested in participating in a rooted study together\, send us an email. We would be happy to talk with you about leading a study for your group.
URL:https://anamcara.com/event/rooted-scripture-circle-with-jeremy-frye/2023-11-08/
CATEGORIES:Scripture Circles
END:VEVENT
BEGIN:VEVENT
DTSTART;TZID=America/Denver:20231109T170000
DTEND;TZID=America/Denver:20231109T200000
DTSTAMP:20260424T043523
CREATED:20230907T004016Z
LAST-MODIFIED:20230907T171946Z
UID:10004466-1699549200-1699560000@anamcara.com
SUMMARY:Rooted Scripture Circle with Jeremy Frye
DESCRIPTION:These Scripture Circles are meant for a specific community that is traveling together over time (a small group\, family group\, or small community). This could be over several months as a theme is explored (justice\, grace\, or love\, for example)\, or for much longer as the group dives deeper into Scripture and sacred community. \nThis Rooted Study will be lead by Jeremy Frye. We will meet on the 2nd Thursday evening of the month at 5pm MT for 6 months.  The group is limited to 12 people. \nIf you have a group that is interested in participating in a rooted study together\, send us an email. We would be happy to talk with you about leading a study for your group.
URL:https://anamcara.com/event/rooted-scripture-circle-with-jeremy-frye-2/2023-11-09/
LOCATION:Online Via Zoom
CATEGORIES:Scripture Circles
ORGANIZER;CN="Anam Cara":MAILTO:admin@anamcara.com
END:VEVENT
BEGIN:VEVENT
DTSTART;TZID=America/Denver:20231109T180000
DTEND;TZID=America/Denver:20231109T210000
DTSTAMP:20260424T043523
CREATED:20230920T043156Z
LAST-MODIFIED:20230920T043156Z
UID:10004582-1699552800-1699563600@anamcara.com
SUMMARY:Monthly Scripture Circle with Julie Stoll
DESCRIPTION:Join us for a scripture circle study where we delve deep into the ancient texts and explore the original context and language in sacred community. In this discussion\, we encourage participants to bring their personal experiences and insights\, as we believe that everyone’s voice and experience are important in helping us truly understand the scripture and the impact in our lives.\n\nRegister Here
URL:https://anamcara.com/event/monthly-scripture-circle-with-julie-stoll-4/2023-11-09/
LOCATION:Online Via Zoom
CATEGORIES:Scripture Circles
END:VEVENT
BEGIN:VEVENT
DTSTART;TZID=America/Denver:20231111T090000
DTEND;TZID=America/Denver:20231111T120000
DTSTAMP:20260424T043523
CREATED:20230105T070145Z
LAST-MODIFIED:20240701T195515Z
UID:10004390-1699693200-1699704000@anamcara.com
SUMMARY:Franklin Scripture Circle
DESCRIPTION:This is a Scripture Circle led by Jeremy Frye in Franklin\, TN. Scripture Circles are an experience of community centered around the Word—are an experience of studying the Scriptures that is practical and pastoral\, scholarly and mystical\, personal and communal. Each Scripture Circle is a remarkable experience of communion with God and others—a unique experience made more so by your participation: no one else has your story\, your eyes\, and the gifts you bring to studying Scripture. \nIf you are local to the Nashville/Franklin area and would like to attend\, you can register by clicking the link. \nRegister Here
URL:https://anamcara.com/event/franklin-scripture-circle-closed/2023-11-11/
CATEGORIES:Scripture Circles
END:VEVENT
BEGIN:VEVENT
DTSTART;TZID=America/Denver:20231120T120000
DTEND;TZID=America/Denver:20231120T133000
DTSTAMP:20260424T043523
CREATED:20230920T042209Z
LAST-MODIFIED:20230921T231459Z
UID:10004576-1700481600-1700487000@anamcara.com
SUMMARY:Monthly Scripture Circle with Julie Stoll
DESCRIPTION:Join Julie Stoll for this open online scripture circle. \nScripture circles provide a space for deep reflection and contemplation\, allowing participants to engage with the Creator\, themselves\, and concepts contained within the scriptures. By exploring these texts in a collective setting\, participants are able to gain new perspectives\, share insights\, and deepen their understanding of the material. \nRegister Here
URL:https://anamcara.com/event/monthly-scripture-circle-with-julie-stoll-3/2023-11-20/
LOCATION:Online Via Zoom
CATEGORIES:Scripture Circles
END:VEVENT
BEGIN:VEVENT
DTSTART;TZID=America/Denver:20231127T183000
DTEND;TZID=America/Denver:20231127T200000
DTSTAMP:20260424T043523
CREATED:20230920T043456Z
LAST-MODIFIED:20231113T151621Z
UID:10004584-1701109800-1701115200@anamcara.com
SUMMARY:Advent Scripture Circle Series with Julie Stoll
DESCRIPTION:The Advent season is a time of preparation for the birth of Jesus. As we reflect on the significance of this time\, we invite you to join us in a scripture circle discussion. These sessions will have choices of starting passages in both the Old and the New Testament.\n\nRegister Here
URL:https://anamcara.com/event/advent-scripture-circle-series-with-julie-stoll/
LOCATION:Online Via Zoom
CATEGORIES:Scripture Circles
ATTACH;FMTTYPE=image/jpeg:https://anamcara.com/wp-content/uploads/2023/09/Julie-AdventSC.jpeg
END:VEVENT
BEGIN:VEVENT
DTSTART;TZID=America/Denver:20231206T170000
DTEND;TZID=America/Denver:20231206T200000
DTSTAMP:20260424T043523
CREATED:20230907T172705Z
LAST-MODIFIED:20230907T172705Z
UID:10004473-1701882000-1701892800@anamcara.com
SUMMARY:Open Online Scripture Circle
DESCRIPTION:This is a Scripture Circle led by a teacher with the Anam Cara Community. Scripture Circles—an experience of community centered around the Word—are an experience of studying the Scriptures that is practical and pastoral\, scholarly and mystical\, personal and communal. Each Scripture Circle is a remarkable experience of communion with God and others—a unique experience made more so by your participation: no one else has your story\, your eyes\, and the gifts you bring to studying Scripture. \nRegister Here
URL:https://anamcara.com/event/open-online-scripture-circle-3/2023-12-06/
CATEGORIES:Scripture Circles
END:VEVENT
BEGIN:VEVENT
DTSTART;TZID=America/Denver:20231209T090000
DTEND;TZID=America/Denver:20231209T120000
DTSTAMP:20260424T043523
CREATED:20230105T070145Z
LAST-MODIFIED:20240701T195515Z
UID:10004391-1702112400-1702123200@anamcara.com
SUMMARY:Franklin Scripture Circle
DESCRIPTION:This is a Scripture Circle led by Jeremy Frye in Franklin\, TN. Scripture Circles are an experience of community centered around the Word—are an experience of studying the Scriptures that is practical and pastoral\, scholarly and mystical\, personal and communal. Each Scripture Circle is a remarkable experience of communion with God and others—a unique experience made more so by your participation: no one else has your story\, your eyes\, and the gifts you bring to studying Scripture. \nIf you are local to the Nashville/Franklin area and would like to attend\, you can register by clicking the link. \nRegister Here
URL:https://anamcara.com/event/franklin-scripture-circle-closed/2023-12-09/
CATEGORIES:Scripture Circles
END:VEVENT
BEGIN:VEVENT
DTSTART;TZID=America/Denver:20231210T180000
DTEND;TZID=America/Denver:20231210T210000
DTSTAMP:20260424T043523
CREATED:20230920T043156Z
LAST-MODIFIED:20230920T043156Z
UID:10004583-1702231200-1702242000@anamcara.com
SUMMARY:Monthly Scripture Circle with Julie Stoll
DESCRIPTION:Join us for a scripture circle study where we delve deep into the ancient texts and explore the original context and language in sacred community. In this discussion\, we encourage participants to bring their personal experiences and insights\, as we believe that everyone’s voice and experience are important in helping us truly understand the scripture and the impact in our lives.\n\nRegister Here
URL:https://anamcara.com/event/monthly-scripture-circle-with-julie-stoll-4/2023-12-10/
LOCATION:Online Via Zoom
CATEGORIES:Scripture Circles
END:VEVENT
BEGIN:VEVENT
DTSTART;TZID=America/Denver:20231213T170000
DTEND;TZID=America/Denver:20231213T200000
DTSTAMP:20260424T043523
CREATED:20230629T191159Z
LAST-MODIFIED:20230907T171520Z
UID:10004440-1702486800-1702497600@anamcara.com
SUMMARY:Rooted Scripture Circle with Jeremy Frye
DESCRIPTION:These Scripture Circles are meant for a specific community that is traveling together over time (a small group\, family group\, or small community). This could be over several months as a theme is explored (justice\, grace\, or love\, for example)\, or for much longer as the group dives deeper into Scripture and sacred community. \nThis Rooted Study will be lead by Jeremy Frye. We will meet on the 2nd Wednesday evening of the month at 5pm MT for 6 months.  The group is limited to 12 people. \nIf you have a group that is interested in participating in a rooted study together\, send us an email. We would be happy to talk with you about leading a study for your group.
URL:https://anamcara.com/event/rooted-scripture-circle-with-jeremy-frye/2023-12-13/
CATEGORIES:Scripture Circles
END:VEVENT
BEGIN:VEVENT
DTSTART;TZID=America/Denver:20231214T170000
DTEND;TZID=America/Denver:20231214T200000
DTSTAMP:20260424T043523
CREATED:20230907T004016Z
LAST-MODIFIED:20230907T171946Z
UID:10004467-1702573200-1702584000@anamcara.com
SUMMARY:Rooted Scripture Circle with Jeremy Frye
DESCRIPTION:These Scripture Circles are meant for a specific community that is traveling together over time (a small group\, family group\, or small community). This could be over several months as a theme is explored (justice\, grace\, or love\, for example)\, or for much longer as the group dives deeper into Scripture and sacred community. \nThis Rooted Study will be lead by Jeremy Frye. We will meet on the 2nd Thursday evening of the month at 5pm MT for 6 months.  The group is limited to 12 people. \nIf you have a group that is interested in participating in a rooted study together\, send us an email. We would be happy to talk with you about leading a study for your group.
URL:https://anamcara.com/event/rooted-scripture-circle-with-jeremy-frye-2/2023-12-14/
LOCATION:Online Via Zoom
CATEGORIES:Scripture Circles
ORGANIZER;CN="Anam Cara":MAILTO:admin@anamcara.com
END:VEVENT
BEGIN:VEVENT
DTSTART;TZID=America/Denver:20231218T120000
DTEND;TZID=America/Denver:20231218T133000
DTSTAMP:20260424T043523
CREATED:20230920T042209Z
LAST-MODIFIED:20230921T231459Z
UID:10004577-1702900800-1702906200@anamcara.com
SUMMARY:Monthly Scripture Circle with Julie Stoll
DESCRIPTION:Join Julie Stoll for this open online scripture circle. \nScripture circles provide a space for deep reflection and contemplation\, allowing participants to engage with the Creator\, themselves\, and concepts contained within the scriptures. By exploring these texts in a collective setting\, participants are able to gain new perspectives\, share insights\, and deepen their understanding of the material. \nRegister Here
URL:https://anamcara.com/event/monthly-scripture-circle-with-julie-stoll-3/2023-12-18/
LOCATION:Online Via Zoom
CATEGORIES:Scripture Circles
END:VEVENT
END:VCALENDAR