BEGIN:VCALENDAR
VERSION:2.0
PRODID:-//Anam Cara Ministries - ECPv6.15.20//NONSGML v1.0//EN
CALSCALE:GREGORIAN
METHOD:PUBLISH
X-ORIGINAL-URL:https://anamcara.com
X-WR-CALDESC:Events for Anam Cara Ministries
REFRESH-INTERVAL;VALUE=DURATION:PT1H
X-Robots-Tag:noindex
X-PUBLISHED-TTL:PT1H
BEGIN:VTIMEZONE
TZID:America/Denver
BEGIN:DAYLIGHT
TZOFFSETFROM:-0700
TZOFFSETTO:-0600
TZNAME:MDT
DTSTART:20220313T090000
END:DAYLIGHT
BEGIN:STANDARD
TZOFFSETFROM:-0600
TZOFFSETTO:-0700
TZNAME:MST
DTSTART:20221106T080000
END:STANDARD
BEGIN:DAYLIGHT
TZOFFSETFROM:-0700
TZOFFSETTO:-0600
TZNAME:MDT
DTSTART:20230312T090000
END:DAYLIGHT
BEGIN:STANDARD
TZOFFSETFROM:-0600
TZOFFSETTO:-0700
TZNAME:MST
DTSTART:20231105T080000
END:STANDARD
BEGIN:DAYLIGHT
TZOFFSETFROM:-0700
TZOFFSETTO:-0600
TZNAME:MDT
DTSTART:20240310T090000
END:DAYLIGHT
BEGIN:STANDARD
TZOFFSETFROM:-0600
TZOFFSETTO:-0700
TZNAME:MST
DTSTART:20241103T080000
END:STANDARD
END:VTIMEZONE
BEGIN:VEVENT
DTSTART;TZID=America/Denver:20230510T180000
DTEND;TZID=America/Denver:20230510T210000
DTSTAMP:20260424T013756
CREATED:20220928T181811Z
LAST-MODIFIED:20220928T181811Z
UID:10004182-1683741600-1683752400@anamcara.com
SUMMARY:Open Online Scripture Circle
DESCRIPTION:This is a Scripture Circle led by a teacher with the Anam Cara Community. Scripture Circles—an experience of community centered around the Word—are an experience of studying the Scriptures that is practical and pastoral\, scholarly and mystical\, personal and communal. Each Scripture Circle is a remarkable experience of communion with God and others—a unique experience made more so by your participation: no one else has your story\, your eyes\, and the gifts you bring to studying Scripture.
URL:https://anamcara.com/event/open-online-scripture-circle/2023-05-10/
CATEGORIES:Scripture Circles
END:VEVENT
BEGIN:VEVENT
DTSTART;TZID=America/Denver:20230510T180000
DTEND;TZID=America/Denver:20230510T210000
DTSTAMP:20260424T013756
CREATED:20220928T181811Z
LAST-MODIFIED:20220928T181811Z
UID:10004183-1683741600-1683752400@anamcara.com
SUMMARY:Open Online Scripture Circle
DESCRIPTION:This is a Scripture Circle led by a teacher with the Anam Cara Community. Scripture Circles—an experience of community centered around the Word—are an experience of studying the Scriptures that is practical and pastoral\, scholarly and mystical\, personal and communal. Each Scripture Circle is a remarkable experience of communion with God and others—a unique experience made more so by your participation: no one else has your story\, your eyes\, and the gifts you bring to studying Scripture.
URL:https://anamcara.com/event/open-online-scripture-circle/2023-05-10/
CATEGORIES:Scripture Circles
END:VEVENT
BEGIN:VEVENT
DTSTART;TZID=America/Denver:20230510T180000
DTEND;TZID=America/Denver:20230510T210000
DTSTAMP:20260424T013756
CREATED:20220928T181811Z
LAST-MODIFIED:20220928T181811Z
UID:10004155-1683741600-1683752400@anamcara.com
SUMMARY:Open Online Scripture Circle
DESCRIPTION:This is a Scripture Circle led by a teacher with the Anam Cara Community. Scripture Circles—an experience of community centered around the Word—are an experience of studying the Scriptures that is practical and pastoral\, scholarly and mystical\, personal and communal. Each Scripture Circle is a remarkable experience of communion with God and others—a unique experience made more so by your participation: no one else has your story\, your eyes\, and the gifts you bring to studying Scripture.
URL:https://anamcara.com/event/open-online-scripture-circle/2023-05-10/
CATEGORIES:Scripture Circles
END:VEVENT
BEGIN:VEVENT
DTSTART;TZID=America/Denver:20230510T180000
DTEND;TZID=America/Denver:20230510T210000
DTSTAMP:20260424T013756
CREATED:20220928T181811Z
LAST-MODIFIED:20220928T181811Z
UID:10004168-1683741600-1683752400@anamcara.com
SUMMARY:Open Online Scripture Circle
DESCRIPTION:This is a Scripture Circle led by a teacher with the Anam Cara Community. Scripture Circles—an experience of community centered around the Word—are an experience of studying the Scriptures that is practical and pastoral\, scholarly and mystical\, personal and communal. Each Scripture Circle is a remarkable experience of communion with God and others—a unique experience made more so by your participation: no one else has your story\, your eyes\, and the gifts you bring to studying Scripture.
URL:https://anamcara.com/event/open-online-scripture-circle/2023-05-10/
CATEGORIES:Scripture Circles
END:VEVENT
BEGIN:VEVENT
DTSTART;TZID=America/Denver:20230510T180000
DTEND;TZID=America/Denver:20230510T210000
DTSTAMP:20260424T013756
CREATED:20220928T181811Z
LAST-MODIFIED:20220928T181811Z
UID:10004177-1683741600-1683752400@anamcara.com
SUMMARY:Open Online Scripture Circle
DESCRIPTION:This is a Scripture Circle led by a teacher with the Anam Cara Community. Scripture Circles—an experience of community centered around the Word—are an experience of studying the Scriptures that is practical and pastoral\, scholarly and mystical\, personal and communal. Each Scripture Circle is a remarkable experience of communion with God and others—a unique experience made more so by your participation: no one else has your story\, your eyes\, and the gifts you bring to studying Scripture.
URL:https://anamcara.com/event/open-online-scripture-circle/2023-05-10/
CATEGORIES:Scripture Circles
END:VEVENT
BEGIN:VEVENT
DTSTART;TZID=America/Denver:20230510T180000
DTEND;TZID=America/Denver:20230510T210000
DTSTAMP:20260424T013756
CREATED:20220928T181811Z
LAST-MODIFIED:20220928T181811Z
UID:10004180-1683741600-1683752400@anamcara.com
SUMMARY:Open Online Scripture Circle
DESCRIPTION:This is a Scripture Circle led by a teacher with the Anam Cara Community. Scripture Circles—an experience of community centered around the Word—are an experience of studying the Scriptures that is practical and pastoral\, scholarly and mystical\, personal and communal. Each Scripture Circle is a remarkable experience of communion with God and others—a unique experience made more so by your participation: no one else has your story\, your eyes\, and the gifts you bring to studying Scripture.
URL:https://anamcara.com/event/open-online-scripture-circle/2023-05-10/
CATEGORIES:Scripture Circles
END:VEVENT
BEGIN:VEVENT
DTSTART;TZID=America/Denver:20230513T090000
DTEND;TZID=America/Denver:20230513T120000
DTSTAMP:20260424T013756
CREATED:20230105T070145Z
LAST-MODIFIED:20240701T195515Z
UID:10004384-1683968400-1683979200@anamcara.com
SUMMARY:Franklin Scripture Circle
DESCRIPTION:This is a Scripture Circle led by Jeremy Frye in Franklin\, TN. Scripture Circles are an experience of community centered around the Word—are an experience of studying the Scriptures that is practical and pastoral\, scholarly and mystical\, personal and communal. Each Scripture Circle is a remarkable experience of communion with God and others—a unique experience made more so by your participation: no one else has your story\, your eyes\, and the gifts you bring to studying Scripture. \nIf you are local to the Nashville/Franklin area and would like to attend\, you can register by clicking the link. \nRegister Here
URL:https://anamcara.com/event/franklin-scripture-circle-closed/2023-05-13/
CATEGORIES:Scripture Circles
END:VEVENT
BEGIN:VEVENT
DTSTART;TZID=America/Denver:20230513T130000
DTEND;TZID=America/Denver:20230513T160000
DTSTAMP:20260424T013756
CREATED:20221227T192804Z
LAST-MODIFIED:20221227T192804Z
UID:10004361-1683982800-1683993600@anamcara.com
SUMMARY:Neighborhood Church Scripture Circle (Closed)
DESCRIPTION:
URL:https://anamcara.com/event/neighborhood-church-scripture-circle-closed-5/2023-05-13/
CATEGORIES:Scripture Circles
END:VEVENT
BEGIN:VEVENT
DTSTART;TZID=America/Denver:20230513T180000
DTEND;TZID=America/Denver:20230513T210000
DTSTAMP:20260424T013756
CREATED:20221227T191648Z
LAST-MODIFIED:20221227T191648Z
UID:10004345-1684000800-1684011600@anamcara.com
SUMMARY:Boulder Scripture Circle (Open)
DESCRIPTION:To register for this scripture circle\, contact Leah at All Souls Boulder Church. leah@allsoulsboulder.org
URL:https://anamcara.com/event/boulder-scripture-circle-open-4/2023-05-13/
CATEGORIES:Scripture Circles
END:VEVENT
BEGIN:VEVENT
DTSTART;TZID=America/Denver:20230520T090000
DTEND;TZID=America/Denver:20230520T120000
DTSTAMP:20260424T013756
CREATED:20220928T182229Z
LAST-MODIFIED:20220928T182229Z
UID:10004203-1684573200-1684584000@anamcara.com
SUMMARY:Open Online Scripture Circle
DESCRIPTION:This is a Scripture Circle led by a teacher with the Anam Cara Community. Scripture Circles—an experience of community centered around the Word—are an experience of studying the Scriptures that is practical and pastoral\, scholarly and mystical\, personal and communal. Each Scripture Circle is a remarkable experience of communion with God and others—a unique experience made more so by your participation: no one else has your story\, your eyes\, and the gifts you bring to studying Scripture.
URL:https://anamcara.com/event/open-online-scripture-circle-2/2023-05-20/
CATEGORIES:Scripture Circles
END:VEVENT
BEGIN:VEVENT
DTSTART;TZID=America/Denver:20230520T090000
DTEND;TZID=America/Denver:20230520T120000
DTSTAMP:20260424T013756
CREATED:20220928T182229Z
LAST-MODIFIED:20220928T182229Z
UID:10004212-1684573200-1684584000@anamcara.com
SUMMARY:Open Online Scripture Circle
DESCRIPTION:This is a Scripture Circle led by a teacher with the Anam Cara Community. Scripture Circles—an experience of community centered around the Word—are an experience of studying the Scriptures that is practical and pastoral\, scholarly and mystical\, personal and communal. Each Scripture Circle is a remarkable experience of communion with God and others—a unique experience made more so by your participation: no one else has your story\, your eyes\, and the gifts you bring to studying Scripture.
URL:https://anamcara.com/event/open-online-scripture-circle-2/2023-05-20/
CATEGORIES:Scripture Circles
END:VEVENT
BEGIN:VEVENT
DTSTART;TZID=America/Denver:20230520T090000
DTEND;TZID=America/Denver:20230520T120000
DTSTAMP:20260424T013756
CREATED:20220928T182229Z
LAST-MODIFIED:20220928T182229Z
UID:10004197-1684573200-1684584000@anamcara.com
SUMMARY:Open Online Scripture Circle
DESCRIPTION:This is a Scripture Circle led by a teacher with the Anam Cara Community. Scripture Circles—an experience of community centered around the Word—are an experience of studying the Scriptures that is practical and pastoral\, scholarly and mystical\, personal and communal. Each Scripture Circle is a remarkable experience of communion with God and others—a unique experience made more so by your participation: no one else has your story\, your eyes\, and the gifts you bring to studying Scripture.
URL:https://anamcara.com/event/open-online-scripture-circle-2/2023-05-20/
CATEGORIES:Scripture Circles
END:VEVENT
BEGIN:VEVENT
DTSTART;TZID=America/Denver:20230520T090000
DTEND;TZID=America/Denver:20230520T120000
DTSTAMP:20260424T013756
CREATED:20220928T182229Z
LAST-MODIFIED:20220928T182229Z
UID:10004215-1684573200-1684584000@anamcara.com
SUMMARY:Open Online Scripture Circle
DESCRIPTION:This is a Scripture Circle led by a teacher with the Anam Cara Community. Scripture Circles—an experience of community centered around the Word—are an experience of studying the Scriptures that is practical and pastoral\, scholarly and mystical\, personal and communal. Each Scripture Circle is a remarkable experience of communion with God and others—a unique experience made more so by your participation: no one else has your story\, your eyes\, and the gifts you bring to studying Scripture.
URL:https://anamcara.com/event/open-online-scripture-circle-2/2023-05-20/
CATEGORIES:Scripture Circles
END:VEVENT
BEGIN:VEVENT
DTSTART;TZID=America/Denver:20230520T090000
DTEND;TZID=America/Denver:20230520T120000
DTSTAMP:20260424T013756
CREATED:20220928T182229Z
LAST-MODIFIED:20220928T182229Z
UID:10004208-1684573200-1684584000@anamcara.com
SUMMARY:Open Online Scripture Circle
DESCRIPTION:This is a Scripture Circle led by a teacher with the Anam Cara Community. Scripture Circles—an experience of community centered around the Word—are an experience of studying the Scriptures that is practical and pastoral\, scholarly and mystical\, personal and communal. Each Scripture Circle is a remarkable experience of communion with God and others—a unique experience made more so by your participation: no one else has your story\, your eyes\, and the gifts you bring to studying Scripture.
URL:https://anamcara.com/event/open-online-scripture-circle-2/2023-05-20/
CATEGORIES:Scripture Circles
END:VEVENT
BEGIN:VEVENT
DTSTART;TZID=America/Denver:20230520T090000
DTEND;TZID=America/Denver:20230520T120000
DTSTAMP:20260424T013756
CREATED:20220928T182229Z
LAST-MODIFIED:20220928T182229Z
UID:10004190-1684573200-1684584000@anamcara.com
SUMMARY:Open Online Scripture Circle
DESCRIPTION:This is a Scripture Circle led by a teacher with the Anam Cara Community. Scripture Circles—an experience of community centered around the Word—are an experience of studying the Scriptures that is practical and pastoral\, scholarly and mystical\, personal and communal. Each Scripture Circle is a remarkable experience of communion with God and others—a unique experience made more so by your participation: no one else has your story\, your eyes\, and the gifts you bring to studying Scripture.
URL:https://anamcara.com/event/open-online-scripture-circle-2/2023-05-20/
CATEGORIES:Scripture Circles
END:VEVENT
BEGIN:VEVENT
DTSTART;TZID=America/Denver:20230520T090000
DTEND;TZID=America/Denver:20230520T120000
DTSTAMP:20260424T013756
CREATED:20220928T182229Z
LAST-MODIFIED:20220928T182229Z
UID:10004217-1684573200-1684584000@anamcara.com
SUMMARY:Open Online Scripture Circle
DESCRIPTION:This is a Scripture Circle led by a teacher with the Anam Cara Community. Scripture Circles—an experience of community centered around the Word—are an experience of studying the Scriptures that is practical and pastoral\, scholarly and mystical\, personal and communal. Each Scripture Circle is a remarkable experience of communion with God and others—a unique experience made more so by your participation: no one else has your story\, your eyes\, and the gifts you bring to studying Scripture.
URL:https://anamcara.com/event/open-online-scripture-circle-2/2023-05-20/
CATEGORIES:Scripture Circles
END:VEVENT
BEGIN:VEVENT
DTSTART;TZID=America/Denver:20230520T090000
DTEND;TZID=America/Denver:20230520T120000
DTSTAMP:20260424T013756
CREATED:20220928T182229Z
LAST-MODIFIED:20220928T182229Z
UID:10004218-1684573200-1684584000@anamcara.com
SUMMARY:Open Online Scripture Circle
DESCRIPTION:This is a Scripture Circle led by a teacher with the Anam Cara Community. Scripture Circles—an experience of community centered around the Word—are an experience of studying the Scriptures that is practical and pastoral\, scholarly and mystical\, personal and communal. Each Scripture Circle is a remarkable experience of communion with God and others—a unique experience made more so by your participation: no one else has your story\, your eyes\, and the gifts you bring to studying Scripture.
URL:https://anamcara.com/event/open-online-scripture-circle-2/2023-05-20/
CATEGORIES:Scripture Circles
END:VEVENT
BEGIN:VEVENT
DTSTART;TZID=America/Denver:20230522T120000
DTEND;TZID=America/Denver:20230522T133000
DTSTAMP:20260424T013756
CREATED:20230418T150132Z
LAST-MODIFIED:20230418T150132Z
UID:10004422-1684756800-1684762200@anamcara.com
SUMMARY:Monthly Scripture Circle with Julie Stoll
DESCRIPTION:
URL:https://anamcara.com/event/monthly-scripture-circle-with-julie-stoll-2-2/
CATEGORIES:Scripture Circles
END:VEVENT
BEGIN:VEVENT
DTSTART;TZID=America/Denver:20230610T090000
DTEND;TZID=America/Denver:20230610T120000
DTSTAMP:20260424T013756
CREATED:20230105T070145Z
LAST-MODIFIED:20240701T195515Z
UID:10004385-1686387600-1686398400@anamcara.com
SUMMARY:Franklin Scripture Circle
DESCRIPTION:This is a Scripture Circle led by Jeremy Frye in Franklin\, TN. Scripture Circles are an experience of community centered around the Word—are an experience of studying the Scriptures that is practical and pastoral\, scholarly and mystical\, personal and communal. Each Scripture Circle is a remarkable experience of communion with God and others—a unique experience made more so by your participation: no one else has your story\, your eyes\, and the gifts you bring to studying Scripture. \nIf you are local to the Nashville/Franklin area and would like to attend\, you can register by clicking the link. \nRegister Here
URL:https://anamcara.com/event/franklin-scripture-circle-closed/2023-06-10/
CATEGORIES:Scripture Circles
END:VEVENT
BEGIN:VEVENT
DTSTART;TZID=America/Denver:20230610T130000
DTEND;TZID=America/Denver:20230610T160000
DTSTAMP:20260424T013757
CREATED:20221227T192804Z
LAST-MODIFIED:20221227T192804Z
UID:10004362-1686402000-1686412800@anamcara.com
SUMMARY:Neighborhood Church Scripture Circle (Closed)
DESCRIPTION:
URL:https://anamcara.com/event/neighborhood-church-scripture-circle-closed-5/2023-06-10/
CATEGORIES:Scripture Circles
END:VEVENT
BEGIN:VEVENT
DTSTART;TZID=America/Denver:20230610T180000
DTEND;TZID=America/Denver:20230610T210000
DTSTAMP:20260424T013757
CREATED:20221227T191648Z
LAST-MODIFIED:20221227T191648Z
UID:10004346-1686420000-1686430800@anamcara.com
SUMMARY:Boulder Scripture Circle (Open)
DESCRIPTION:To register for this scripture circle\, contact Leah at All Souls Boulder Church. leah@allsoulsboulder.org
URL:https://anamcara.com/event/boulder-scripture-circle-open-4/2023-06-10/
CATEGORIES:Scripture Circles
END:VEVENT
BEGIN:VEVENT
DTSTART;TZID=America/Denver:20230619T120000
DTEND;TZID=America/Denver:20230619T133000
DTSTAMP:20260424T013757
CREATED:20230920T042209Z
LAST-MODIFIED:20230921T231459Z
UID:10004571-1687176000-1687181400@anamcara.com
SUMMARY:Monthly Scripture Circle with Julie Stoll
DESCRIPTION:Join Julie Stoll for this open online scripture circle. \nScripture circles provide a space for deep reflection and contemplation\, allowing participants to engage with the Creator\, themselves\, and concepts contained within the scriptures. By exploring these texts in a collective setting\, participants are able to gain new perspectives\, share insights\, and deepen their understanding of the material. \nRegister Here
URL:https://anamcara.com/event/monthly-scripture-circle-with-julie-stoll-3/2023-06-19/
LOCATION:Online Via Zoom
CATEGORIES:Scripture Circles
END:VEVENT
BEGIN:VEVENT
DTSTART;TZID=America/Denver:20230705T180000
DTEND;TZID=America/Denver:20230705T210000
DTSTAMP:20260424T013757
CREATED:20230629T191957Z
LAST-MODIFIED:20230629T191957Z
UID:10004441-1688580000-1688590800@anamcara.com
SUMMARY:Open Online Scripture Circle with Tara Owens
DESCRIPTION:Scripture Circles—a regular gathering of community centered around the Word—are an experience of studying the Scriptures that is practical and pastoral\, scholarly and mystical\, personal and communal. Each Scripture Circle is a remarkable experience of communion with God and others—a unique journey made more so by your participation: no one else has your story\, your eyes\, and the gifts you bring to the study of Scripture.
URL:https://anamcara.com/event/open-online-scripture-circle-with-tara-owens/2023-07-05/
CATEGORIES:Scripture Circles
END:VEVENT
BEGIN:VEVENT
DTSTART;TZID=America/Denver:20230708T090000
DTEND;TZID=America/Denver:20230708T120000
DTSTAMP:20260424T013757
CREATED:20230105T070145Z
LAST-MODIFIED:20240701T195515Z
UID:10004386-1688806800-1688817600@anamcara.com
SUMMARY:Franklin Scripture Circle
DESCRIPTION:This is a Scripture Circle led by Jeremy Frye in Franklin\, TN. Scripture Circles are an experience of community centered around the Word—are an experience of studying the Scriptures that is practical and pastoral\, scholarly and mystical\, personal and communal. Each Scripture Circle is a remarkable experience of communion with God and others—a unique experience made more so by your participation: no one else has your story\, your eyes\, and the gifts you bring to studying Scripture. \nIf you are local to the Nashville/Franklin area and would like to attend\, you can register by clicking the link. \nRegister Here
URL:https://anamcara.com/event/franklin-scripture-circle-closed/2023-07-08/
CATEGORIES:Scripture Circles
END:VEVENT
BEGIN:VEVENT
DTSTART;TZID=America/Denver:20230712T170000
DTEND;TZID=America/Denver:20230712T200000
DTSTAMP:20260424T013757
CREATED:20230629T191159Z
LAST-MODIFIED:20230907T171520Z
UID:10004435-1689181200-1689192000@anamcara.com
SUMMARY:Rooted Scripture Circle with Jeremy Frye
DESCRIPTION:These Scripture Circles are meant for a specific community that is traveling together over time (a small group\, family group\, or small community). This could be over several months as a theme is explored (justice\, grace\, or love\, for example)\, or for much longer as the group dives deeper into Scripture and sacred community. \nThis Rooted Study will be lead by Jeremy Frye. We will meet on the 2nd Wednesday evening of the month at 5pm MT for 6 months.  The group is limited to 12 people. \nIf you have a group that is interested in participating in a rooted study together\, send us an email. We would be happy to talk with you about leading a study for your group.
URL:https://anamcara.com/event/rooted-scripture-circle-with-jeremy-frye/2023-07-12/
CATEGORIES:Scripture Circles
END:VEVENT
BEGIN:VEVENT
DTSTART;TZID=America/Denver:20230802T180000
DTEND;TZID=America/Denver:20230802T210000
DTSTAMP:20260424T013757
CREATED:20230629T191957Z
LAST-MODIFIED:20230629T191957Z
UID:10004442-1690999200-1691010000@anamcara.com
SUMMARY:Open Online Scripture Circle with Tara Owens
DESCRIPTION:Scripture Circles—a regular gathering of community centered around the Word—are an experience of studying the Scriptures that is practical and pastoral\, scholarly and mystical\, personal and communal. Each Scripture Circle is a remarkable experience of communion with God and others—a unique journey made more so by your participation: no one else has your story\, your eyes\, and the gifts you bring to the study of Scripture.
URL:https://anamcara.com/event/open-online-scripture-circle-with-tara-owens/2023-08-02/
CATEGORIES:Scripture Circles
END:VEVENT
BEGIN:VEVENT
DTSTART;TZID=America/Denver:20230809T170000
DTEND;TZID=America/Denver:20230809T200000
DTSTAMP:20260424T013757
CREATED:20230629T191159Z
LAST-MODIFIED:20230907T171520Z
UID:10004436-1691600400-1691611200@anamcara.com
SUMMARY:Rooted Scripture Circle with Jeremy Frye
DESCRIPTION:These Scripture Circles are meant for a specific community that is traveling together over time (a small group\, family group\, or small community). This could be over several months as a theme is explored (justice\, grace\, or love\, for example)\, or for much longer as the group dives deeper into Scripture and sacred community. \nThis Rooted Study will be lead by Jeremy Frye. We will meet on the 2nd Wednesday evening of the month at 5pm MT for 6 months.  The group is limited to 12 people. \nIf you have a group that is interested in participating in a rooted study together\, send us an email. We would be happy to talk with you about leading a study for your group.
URL:https://anamcara.com/event/rooted-scripture-circle-with-jeremy-frye/2023-08-09/
CATEGORIES:Scripture Circles
END:VEVENT
BEGIN:VEVENT
DTSTART;TZID=America/Denver:20230812T090000
DTEND;TZID=America/Denver:20230812T120000
DTSTAMP:20260424T013757
CREATED:20230105T070145Z
LAST-MODIFIED:20240701T195515Z
UID:10004387-1691830800-1691841600@anamcara.com
SUMMARY:Franklin Scripture Circle
DESCRIPTION:This is a Scripture Circle led by Jeremy Frye in Franklin\, TN. Scripture Circles are an experience of community centered around the Word—are an experience of studying the Scriptures that is practical and pastoral\, scholarly and mystical\, personal and communal. Each Scripture Circle is a remarkable experience of communion with God and others—a unique experience made more so by your participation: no one else has your story\, your eyes\, and the gifts you bring to studying Scripture. \nIf you are local to the Nashville/Franklin area and would like to attend\, you can register by clicking the link. \nRegister Here
URL:https://anamcara.com/event/franklin-scripture-circle-closed/2023-08-12/
CATEGORIES:Scripture Circles
END:VEVENT
BEGIN:VEVENT
DTSTART;TZID=America/Denver:20230909T090000
DTEND;TZID=America/Denver:20230909T120000
DTSTAMP:20260424T013757
CREATED:20230105T070145Z
LAST-MODIFIED:20240701T195515Z
UID:10004388-1694250000-1694260800@anamcara.com
SUMMARY:Franklin Scripture Circle
DESCRIPTION:This is a Scripture Circle led by Jeremy Frye in Franklin\, TN. Scripture Circles are an experience of community centered around the Word—are an experience of studying the Scriptures that is practical and pastoral\, scholarly and mystical\, personal and communal. Each Scripture Circle is a remarkable experience of communion with God and others—a unique experience made more so by your participation: no one else has your story\, your eyes\, and the gifts you bring to studying Scripture. \nIf you are local to the Nashville/Franklin area and would like to attend\, you can register by clicking the link. \nRegister Here
URL:https://anamcara.com/event/franklin-scripture-circle-closed/2023-09-09/
CATEGORIES:Scripture Circles
END:VEVENT
BEGIN:VEVENT
DTSTART;TZID=America/Denver:20230913T170000
DTEND;TZID=America/Denver:20230913T200000
DTSTAMP:20260424T013757
CREATED:20230629T191159Z
LAST-MODIFIED:20230907T171520Z
UID:10004437-1694624400-1694635200@anamcara.com
SUMMARY:Rooted Scripture Circle with Jeremy Frye
DESCRIPTION:These Scripture Circles are meant for a specific community that is traveling together over time (a small group\, family group\, or small community). This could be over several months as a theme is explored (justice\, grace\, or love\, for example)\, or for much longer as the group dives deeper into Scripture and sacred community. \nThis Rooted Study will be lead by Jeremy Frye. We will meet on the 2nd Wednesday evening of the month at 5pm MT for 6 months.  The group is limited to 12 people. \nIf you have a group that is interested in participating in a rooted study together\, send us an email. We would be happy to talk with you about leading a study for your group.
URL:https://anamcara.com/event/rooted-scripture-circle-with-jeremy-frye/2023-09-13/
CATEGORIES:Scripture Circles
END:VEVENT
END:VCALENDAR