BEGIN:VCALENDAR
VERSION:2.0
PRODID:-//Anam Cara Ministries - ECPv6.15.20//NONSGML v1.0//EN
CALSCALE:GREGORIAN
METHOD:PUBLISH
X-WR-CALNAME:Anam Cara Ministries
X-ORIGINAL-URL:https://anamcara.com
X-WR-CALDESC:Events for Anam Cara Ministries
REFRESH-INTERVAL;VALUE=DURATION:PT1H
X-Robots-Tag:noindex
X-PUBLISHED-TTL:PT1H
BEGIN:VTIMEZONE
TZID:America/Denver
BEGIN:DAYLIGHT
TZOFFSETFROM:-0700
TZOFFSETTO:-0600
TZNAME:MDT
DTSTART:20220313T090000
END:DAYLIGHT
BEGIN:STANDARD
TZOFFSETFROM:-0600
TZOFFSETTO:-0700
TZNAME:MST
DTSTART:20221106T080000
END:STANDARD
BEGIN:DAYLIGHT
TZOFFSETFROM:-0700
TZOFFSETTO:-0600
TZNAME:MDT
DTSTART:20230312T090000
END:DAYLIGHT
BEGIN:STANDARD
TZOFFSETFROM:-0600
TZOFFSETTO:-0700
TZNAME:MST
DTSTART:20231105T080000
END:STANDARD
BEGIN:DAYLIGHT
TZOFFSETFROM:-0700
TZOFFSETTO:-0600
TZNAME:MDT
DTSTART:20240310T090000
END:DAYLIGHT
BEGIN:STANDARD
TZOFFSETFROM:-0600
TZOFFSETTO:-0700
TZNAME:MST
DTSTART:20241103T080000
END:STANDARD
END:VTIMEZONE
BEGIN:VEVENT
DTSTART;TZID=America/Denver:20230321T120000
DTEND;TZID=America/Denver:20230321T133000
DTSTAMP:20260423T214539
CREATED:20221210T155759Z
LAST-MODIFIED:20221210T155759Z
UID:10004329-1679400000-1679405400@anamcara.com
SUMMARY:Scripture Circle with Julie Stoll
DESCRIPTION:Scripture circle\, socratic discussion\, engaging bible study. It goes by many names. Come join your voice into the discussion around the text
URL:https://anamcara.com/event/scripture-circle-with-julie-stoll/2023-03-21/
CATEGORIES:Scripture Circles
END:VEVENT
BEGIN:VEVENT
DTSTART;TZID=America/Denver:20230321T120000
DTEND;TZID=America/Denver:20230321T133000
DTSTAMP:20260423T214540
CREATED:20230202T223522Z
LAST-MODIFIED:20230202T223522Z
UID:10004398-1679400000-1679405400@anamcara.com
SUMMARY:Monthly Scripture Circle with Julie Stoll
DESCRIPTION:
URL:https://anamcara.com/event/monthly-scripture-circle-with-julie-stoll/
CATEGORIES:Scripture Circles
END:VEVENT
BEGIN:VEVENT
DTSTART;TZID=America/Denver:20230322T073000
DTEND;TZID=America/Denver:20230322T090000
DTSTAMP:20260423T214540
CREATED:20230306T090209Z
LAST-MODIFIED:20230306T090209Z
UID:10004404-1679470200-1679475600@anamcara.com
SUMMARY:Scripture Circle Cohort with Julie Stoll (6 week cohort)
DESCRIPTION:
URL:https://anamcara.com/event/scripture-circle-cohort-with-julie-stoll-6-week-cohort-2/2023-03-22/
CATEGORIES:Scripture Circles
END:VEVENT
BEGIN:VEVENT
DTSTART;TZID=America/Denver:20230326T180000
DTEND;TZID=America/Denver:20230326T193000
DTSTAMP:20260423T214540
CREATED:20230306T090602Z
LAST-MODIFIED:20230306T090602Z
UID:10004408-1679853600-1679859000@anamcara.com
SUMMARY:Lenten Scripture Circle Cohort with Julie Stoll
DESCRIPTION:
URL:https://anamcara.com/event/lenten-scripture-circle-cohort-with-julie-stoll-2/2023-03-26/
CATEGORIES:Scripture Circles
END:VEVENT
BEGIN:VEVENT
DTSTART;TZID=America/Denver:20230328T120000
DTEND;TZID=America/Denver:20230328T133000
DTSTAMP:20260423T214540
CREATED:20221210T155759Z
LAST-MODIFIED:20221210T155759Z
UID:10004330-1680004800-1680010200@anamcara.com
SUMMARY:Scripture Circle with Julie Stoll
DESCRIPTION:Scripture circle\, socratic discussion\, engaging bible study. It goes by many names. Come join your voice into the discussion around the text
URL:https://anamcara.com/event/scripture-circle-with-julie-stoll/2023-03-28/
CATEGORIES:Scripture Circles
END:VEVENT
BEGIN:VEVENT
DTSTART;TZID=America/Denver:20230328T120000
DTEND;TZID=America/Denver:20230328T133000
DTSTAMP:20260423T214540
CREATED:20221210T155759Z
LAST-MODIFIED:20221210T155759Z
UID:10004331-1680004800-1680010200@anamcara.com
SUMMARY:Scripture Circle with Julie Stoll
DESCRIPTION:Scripture circle\, socratic discussion\, engaging bible study. It goes by many names. Come join your voice into the discussion around the text
URL:https://anamcara.com/event/scripture-circle-with-julie-stoll/2023-03-28/
CATEGORIES:Scripture Circles
END:VEVENT
BEGIN:VEVENT
DTSTART;TZID=America/Denver:20230328T120000
DTEND;TZID=America/Denver:20230328T133000
DTSTAMP:20260423T214540
CREATED:20221210T155759Z
LAST-MODIFIED:20221210T155759Z
UID:10004276-1680004800-1680010200@anamcara.com
SUMMARY:Scripture Circle with Julie Stoll
DESCRIPTION:Scripture circle\, socratic discussion\, engaging bible study. It goes by many names. Come join your voice into the discussion around the text
URL:https://anamcara.com/event/scripture-circle-with-julie-stoll/2023-03-28/
CATEGORIES:Scripture Circles
END:VEVENT
BEGIN:VEVENT
DTSTART;TZID=America/Denver:20230328T120000
DTEND;TZID=America/Denver:20230328T133000
DTSTAMP:20260423T214540
CREATED:20221210T155759Z
LAST-MODIFIED:20221210T155759Z
UID:10004316-1680004800-1680010200@anamcara.com
SUMMARY:Scripture Circle with Julie Stoll
DESCRIPTION:Scripture circle\, socratic discussion\, engaging bible study. It goes by many names. Come join your voice into the discussion around the text
URL:https://anamcara.com/event/scripture-circle-with-julie-stoll/2023-03-28/
CATEGORIES:Scripture Circles
END:VEVENT
BEGIN:VEVENT
DTSTART;TZID=America/Denver:20230328T120000
DTEND;TZID=America/Denver:20230328T133000
DTSTAMP:20260423T214540
CREATED:20221210T155759Z
LAST-MODIFIED:20221210T155759Z
UID:10004325-1680004800-1680010200@anamcara.com
SUMMARY:Scripture Circle with Julie Stoll
DESCRIPTION:Scripture circle\, socratic discussion\, engaging bible study. It goes by many names. Come join your voice into the discussion around the text
URL:https://anamcara.com/event/scripture-circle-with-julie-stoll/2023-03-28/
CATEGORIES:Scripture Circles
END:VEVENT
BEGIN:VEVENT
DTSTART;TZID=America/Denver:20230328T120000
DTEND;TZID=America/Denver:20230328T133000
DTSTAMP:20260423T214540
CREATED:20221210T155759Z
LAST-MODIFIED:20221210T155759Z
UID:10004286-1680004800-1680010200@anamcara.com
SUMMARY:Scripture Circle with Julie Stoll
DESCRIPTION:Scripture circle\, socratic discussion\, engaging bible study. It goes by many names. Come join your voice into the discussion around the text
URL:https://anamcara.com/event/scripture-circle-with-julie-stoll/2023-03-28/
CATEGORIES:Scripture Circles
END:VEVENT
BEGIN:VEVENT
DTSTART;TZID=America/Denver:20230328T120000
DTEND;TZID=America/Denver:20230328T133000
DTSTAMP:20260423T214540
CREATED:20221210T155759Z
LAST-MODIFIED:20221210T155759Z
UID:10004310-1680004800-1680010200@anamcara.com
SUMMARY:Scripture Circle with Julie Stoll
DESCRIPTION:Scripture circle\, socratic discussion\, engaging bible study. It goes by many names. Come join your voice into the discussion around the text
URL:https://anamcara.com/event/scripture-circle-with-julie-stoll/2023-03-28/
CATEGORIES:Scripture Circles
END:VEVENT
BEGIN:VEVENT
DTSTART;TZID=America/Denver:20230328T120000
DTEND;TZID=America/Denver:20230328T133000
DTSTAMP:20260423T214540
CREATED:20221210T155759Z
LAST-MODIFIED:20221210T155759Z
UID:10004295-1680004800-1680010200@anamcara.com
SUMMARY:Scripture Circle with Julie Stoll
DESCRIPTION:Scripture circle\, socratic discussion\, engaging bible study. It goes by many names. Come join your voice into the discussion around the text
URL:https://anamcara.com/event/scripture-circle-with-julie-stoll/2023-03-28/
CATEGORIES:Scripture Circles
END:VEVENT
BEGIN:VEVENT
DTSTART;TZID=America/Denver:20230328T120000
DTEND;TZID=America/Denver:20230328T133000
DTSTAMP:20260423T214540
CREATED:20221210T155759Z
LAST-MODIFIED:20221210T155759Z
UID:10004303-1680004800-1680010200@anamcara.com
SUMMARY:Scripture Circle with Julie Stoll
DESCRIPTION:Scripture circle\, socratic discussion\, engaging bible study. It goes by many names. Come join your voice into the discussion around the text
URL:https://anamcara.com/event/scripture-circle-with-julie-stoll/2023-03-28/
CATEGORIES:Scripture Circles
END:VEVENT
BEGIN:VEVENT
DTSTART;TZID=America/Denver:20230328T120000
DTEND;TZID=America/Denver:20230328T133000
DTSTAMP:20260423T214540
CREATED:20221210T155759Z
LAST-MODIFIED:20221210T155759Z
UID:10004328-1680004800-1680010200@anamcara.com
SUMMARY:Scripture Circle with Julie Stoll
DESCRIPTION:Scripture circle\, socratic discussion\, engaging bible study. It goes by many names. Come join your voice into the discussion around the text
URL:https://anamcara.com/event/scripture-circle-with-julie-stoll/2023-03-28/
CATEGORIES:Scripture Circles
END:VEVENT
BEGIN:VEVENT
DTSTART;TZID=America/Denver:20230328T120000
DTEND;TZID=America/Denver:20230328T133000
DTSTAMP:20260423T214540
CREATED:20221210T155759Z
LAST-MODIFIED:20221210T155759Z
UID:10004321-1680004800-1680010200@anamcara.com
SUMMARY:Scripture Circle with Julie Stoll
DESCRIPTION:Scripture circle\, socratic discussion\, engaging bible study. It goes by many names. Come join your voice into the discussion around the text
URL:https://anamcara.com/event/scripture-circle-with-julie-stoll/2023-03-28/
CATEGORIES:Scripture Circles
END:VEVENT
BEGIN:VEVENT
DTSTART;TZID=America/Denver:20230329T073000
DTEND;TZID=America/Denver:20230329T090000
DTSTAMP:20260423T214540
CREATED:20230306T090209Z
LAST-MODIFIED:20230306T090209Z
UID:10004405-1680075000-1680080400@anamcara.com
SUMMARY:Scripture Circle Cohort with Julie Stoll (6 week cohort)
DESCRIPTION:
URL:https://anamcara.com/event/scripture-circle-cohort-with-julie-stoll-6-week-cohort-2/2023-03-29/
CATEGORIES:Scripture Circles
END:VEVENT
BEGIN:VEVENT
DTSTART;TZID=America/Denver:20230408T090000
DTEND;TZID=America/Denver:20230408T120000
DTSTAMP:20260423T214540
CREATED:20230105T070145Z
LAST-MODIFIED:20240701T195515Z
UID:10004383-1680944400-1680955200@anamcara.com
SUMMARY:Franklin Scripture Circle
DESCRIPTION:This is a Scripture Circle led by Jeremy Frye in Franklin\, TN. Scripture Circles are an experience of community centered around the Word—are an experience of studying the Scriptures that is practical and pastoral\, scholarly and mystical\, personal and communal. Each Scripture Circle is a remarkable experience of communion with God and others—a unique experience made more so by your participation: no one else has your story\, your eyes\, and the gifts you bring to studying Scripture. \nIf you are local to the Nashville/Franklin area and would like to attend\, you can register by clicking the link. \nRegister Here
URL:https://anamcara.com/event/franklin-scripture-circle-closed/2023-04-08/
CATEGORIES:Scripture Circles
END:VEVENT
BEGIN:VEVENT
DTSTART;TZID=America/Denver:20230408T130000
DTEND;TZID=America/Denver:20230408T160000
DTSTAMP:20260423T214540
CREATED:20221227T192804Z
LAST-MODIFIED:20221227T192804Z
UID:10004360-1680958800-1680969600@anamcara.com
SUMMARY:Neighborhood Church Scripture Circle (Closed)
DESCRIPTION:
URL:https://anamcara.com/event/neighborhood-church-scripture-circle-closed-5/2023-04-08/
CATEGORIES:Scripture Circles
END:VEVENT
BEGIN:VEVENT
DTSTART;TZID=America/Denver:20230408T180000
DTEND;TZID=America/Denver:20230408T210000
DTSTAMP:20260423T214540
CREATED:20221227T191648Z
LAST-MODIFIED:20221227T191648Z
UID:10004344-1680976800-1680987600@anamcara.com
SUMMARY:Boulder Scripture Circle (Open)
DESCRIPTION:To register for this scripture circle\, contact Leah at All Souls Boulder Church. leah@allsoulsboulder.org
URL:https://anamcara.com/event/boulder-scripture-circle-open-4/2023-04-08/
CATEGORIES:Scripture Circles
END:VEVENT
BEGIN:VEVENT
DTSTART;TZID=America/Denver:20230412T180000
DTEND;TZID=America/Denver:20230412T210000
DTSTAMP:20260423T214540
CREATED:20220928T181811Z
LAST-MODIFIED:20220928T181811Z
UID:10004154-1681322400-1681333200@anamcara.com
SUMMARY:Open Online Scripture Circle
DESCRIPTION:This is a Scripture Circle led by a teacher with the Anam Cara Community. Scripture Circles—an experience of community centered around the Word—are an experience of studying the Scriptures that is practical and pastoral\, scholarly and mystical\, personal and communal. Each Scripture Circle is a remarkable experience of communion with God and others—a unique experience made more so by your participation: no one else has your story\, your eyes\, and the gifts you bring to studying Scripture.
URL:https://anamcara.com/event/open-online-scripture-circle/2023-04-12/
CATEGORIES:Scripture Circles
END:VEVENT
BEGIN:VEVENT
DTSTART;TZID=America/Denver:20230412T180000
DTEND;TZID=America/Denver:20230412T210000
DTSTAMP:20260423T214540
CREATED:20220928T181811Z
LAST-MODIFIED:20220928T181811Z
UID:10004167-1681322400-1681333200@anamcara.com
SUMMARY:Open Online Scripture Circle
DESCRIPTION:This is a Scripture Circle led by a teacher with the Anam Cara Community. Scripture Circles—an experience of community centered around the Word—are an experience of studying the Scriptures that is practical and pastoral\, scholarly and mystical\, personal and communal. Each Scripture Circle is a remarkable experience of communion with God and others—a unique experience made more so by your participation: no one else has your story\, your eyes\, and the gifts you bring to studying Scripture.
URL:https://anamcara.com/event/open-online-scripture-circle/2023-04-12/
CATEGORIES:Scripture Circles
END:VEVENT
BEGIN:VEVENT
DTSTART;TZID=America/Denver:20230412T180000
DTEND;TZID=America/Denver:20230412T210000
DTSTAMP:20260423T214540
CREATED:20220928T181811Z
LAST-MODIFIED:20220928T181811Z
UID:10004176-1681322400-1681333200@anamcara.com
SUMMARY:Open Online Scripture Circle
DESCRIPTION:This is a Scripture Circle led by a teacher with the Anam Cara Community. Scripture Circles—an experience of community centered around the Word—are an experience of studying the Scriptures that is practical and pastoral\, scholarly and mystical\, personal and communal. Each Scripture Circle is a remarkable experience of communion with God and others—a unique experience made more so by your participation: no one else has your story\, your eyes\, and the gifts you bring to studying Scripture.
URL:https://anamcara.com/event/open-online-scripture-circle/2023-04-12/
CATEGORIES:Scripture Circles
END:VEVENT
BEGIN:VEVENT
DTSTART;TZID=America/Denver:20230412T180000
DTEND;TZID=America/Denver:20230412T210000
DTSTAMP:20260423T214540
CREATED:20220928T181811Z
LAST-MODIFIED:20220928T181811Z
UID:10004179-1681322400-1681333200@anamcara.com
SUMMARY:Open Online Scripture Circle
DESCRIPTION:This is a Scripture Circle led by a teacher with the Anam Cara Community. Scripture Circles—an experience of community centered around the Word—are an experience of studying the Scriptures that is practical and pastoral\, scholarly and mystical\, personal and communal. Each Scripture Circle is a remarkable experience of communion with God and others—a unique experience made more so by your participation: no one else has your story\, your eyes\, and the gifts you bring to studying Scripture.
URL:https://anamcara.com/event/open-online-scripture-circle/2023-04-12/
CATEGORIES:Scripture Circles
END:VEVENT
BEGIN:VEVENT
DTSTART;TZID=America/Denver:20230412T180000
DTEND;TZID=America/Denver:20230412T210000
DTSTAMP:20260423T214540
CREATED:20220928T181811Z
LAST-MODIFIED:20220928T181811Z
UID:10004161-1681322400-1681333200@anamcara.com
SUMMARY:Open Online Scripture Circle
DESCRIPTION:This is a Scripture Circle led by a teacher with the Anam Cara Community. Scripture Circles—an experience of community centered around the Word—are an experience of studying the Scriptures that is practical and pastoral\, scholarly and mystical\, personal and communal. Each Scripture Circle is a remarkable experience of communion with God and others—a unique experience made more so by your participation: no one else has your story\, your eyes\, and the gifts you bring to studying Scripture.
URL:https://anamcara.com/event/open-online-scripture-circle/2023-04-12/
CATEGORIES:Scripture Circles
END:VEVENT
BEGIN:VEVENT
DTSTART;TZID=America/Denver:20230412T180000
DTEND;TZID=America/Denver:20230412T210000
DTSTAMP:20260423T214540
CREATED:20220928T181811Z
LAST-MODIFIED:20220928T181811Z
UID:10004172-1681322400-1681333200@anamcara.com
SUMMARY:Open Online Scripture Circle
DESCRIPTION:This is a Scripture Circle led by a teacher with the Anam Cara Community. Scripture Circles—an experience of community centered around the Word—are an experience of studying the Scriptures that is practical and pastoral\, scholarly and mystical\, personal and communal. Each Scripture Circle is a remarkable experience of communion with God and others—a unique experience made more so by your participation: no one else has your story\, your eyes\, and the gifts you bring to studying Scripture.
URL:https://anamcara.com/event/open-online-scripture-circle/2023-04-12/
CATEGORIES:Scripture Circles
END:VEVENT
BEGIN:VEVENT
DTSTART;TZID=America/Denver:20230412T180000
DTEND;TZID=America/Denver:20230412T210000
DTSTAMP:20260423T214540
CREATED:20220928T181811Z
LAST-MODIFIED:20220928T181811Z
UID:10004181-1681322400-1681333200@anamcara.com
SUMMARY:Open Online Scripture Circle
DESCRIPTION:This is a Scripture Circle led by a teacher with the Anam Cara Community. Scripture Circles—an experience of community centered around the Word—are an experience of studying the Scriptures that is practical and pastoral\, scholarly and mystical\, personal and communal. Each Scripture Circle is a remarkable experience of communion with God and others—a unique experience made more so by your participation: no one else has your story\, your eyes\, and the gifts you bring to studying Scripture.
URL:https://anamcara.com/event/open-online-scripture-circle/2023-04-12/
CATEGORIES:Scripture Circles
END:VEVENT
BEGIN:VEVENT
DTSTART;TZID=America/Denver:20230415T090000
DTEND;TZID=America/Denver:20230415T120000
DTSTAMP:20260423T214540
CREATED:20220928T182229Z
LAST-MODIFIED:20220928T182229Z
UID:10004214-1681549200-1681560000@anamcara.com
SUMMARY:Open Online Scripture Circle
DESCRIPTION:This is a Scripture Circle led by a teacher with the Anam Cara Community. Scripture Circles—an experience of community centered around the Word—are an experience of studying the Scriptures that is practical and pastoral\, scholarly and mystical\, personal and communal. Each Scripture Circle is a remarkable experience of communion with God and others—a unique experience made more so by your participation: no one else has your story\, your eyes\, and the gifts you bring to studying Scripture.
URL:https://anamcara.com/event/open-online-scripture-circle-2/2023-04-15/
CATEGORIES:Scripture Circles
END:VEVENT
BEGIN:VEVENT
DTSTART;TZID=America/Denver:20230415T090000
DTEND;TZID=America/Denver:20230415T120000
DTSTAMP:20260423T214540
CREATED:20220928T182229Z
LAST-MODIFIED:20220928T182229Z
UID:10004207-1681549200-1681560000@anamcara.com
SUMMARY:Open Online Scripture Circle
DESCRIPTION:This is a Scripture Circle led by a teacher with the Anam Cara Community. Scripture Circles—an experience of community centered around the Word—are an experience of studying the Scriptures that is practical and pastoral\, scholarly and mystical\, personal and communal. Each Scripture Circle is a remarkable experience of communion with God and others—a unique experience made more so by your participation: no one else has your story\, your eyes\, and the gifts you bring to studying Scripture.
URL:https://anamcara.com/event/open-online-scripture-circle-2/2023-04-15/
CATEGORIES:Scripture Circles
END:VEVENT
BEGIN:VEVENT
DTSTART;TZID=America/Denver:20230415T090000
DTEND;TZID=America/Denver:20230415T120000
DTSTAMP:20260423T214540
CREATED:20220928T182229Z
LAST-MODIFIED:20220928T182229Z
UID:10004216-1681549200-1681560000@anamcara.com
SUMMARY:Open Online Scripture Circle
DESCRIPTION:This is a Scripture Circle led by a teacher with the Anam Cara Community. Scripture Circles—an experience of community centered around the Word—are an experience of studying the Scriptures that is practical and pastoral\, scholarly and mystical\, personal and communal. Each Scripture Circle is a remarkable experience of communion with God and others—a unique experience made more so by your participation: no one else has your story\, your eyes\, and the gifts you bring to studying Scripture.
URL:https://anamcara.com/event/open-online-scripture-circle-2/2023-04-15/
CATEGORIES:Scripture Circles
END:VEVENT
BEGIN:VEVENT
DTSTART;TZID=America/Denver:20230415T090000
DTEND;TZID=America/Denver:20230415T120000
DTSTAMP:20260423T214540
CREATED:20220928T182229Z
LAST-MODIFIED:20220928T182229Z
UID:10004202-1681549200-1681560000@anamcara.com
SUMMARY:Open Online Scripture Circle
DESCRIPTION:This is a Scripture Circle led by a teacher with the Anam Cara Community. Scripture Circles—an experience of community centered around the Word—are an experience of studying the Scriptures that is practical and pastoral\, scholarly and mystical\, personal and communal. Each Scripture Circle is a remarkable experience of communion with God and others—a unique experience made more so by your participation: no one else has your story\, your eyes\, and the gifts you bring to studying Scripture.
URL:https://anamcara.com/event/open-online-scripture-circle-2/2023-04-15/
CATEGORIES:Scripture Circles
END:VEVENT
END:VCALENDAR