BEGIN:VCALENDAR
VERSION:2.0
PRODID:-//Anam Cara Ministries - ECPv6.15.20//NONSGML v1.0//EN
CALSCALE:GREGORIAN
METHOD:PUBLISH
X-WR-CALNAME:Anam Cara Ministries
X-ORIGINAL-URL:https://anamcara.com
X-WR-CALDESC:Events for Anam Cara Ministries
REFRESH-INTERVAL;VALUE=DURATION:PT1H
X-Robots-Tag:noindex
X-PUBLISHED-TTL:PT1H
BEGIN:VTIMEZONE
TZID:America/Denver
BEGIN:DAYLIGHT
TZOFFSETFROM:-0700
TZOFFSETTO:-0600
TZNAME:MDT
DTSTART:20240310T090000
END:DAYLIGHT
BEGIN:STANDARD
TZOFFSETFROM:-0600
TZOFFSETTO:-0700
TZNAME:MST
DTSTART:20241103T080000
END:STANDARD
BEGIN:DAYLIGHT
TZOFFSETFROM:-0700
TZOFFSETTO:-0600
TZNAME:MDT
DTSTART:20250309T090000
END:DAYLIGHT
BEGIN:STANDARD
TZOFFSETFROM:-0600
TZOFFSETTO:-0700
TZNAME:MST
DTSTART:20251102T080000
END:STANDARD
BEGIN:DAYLIGHT
TZOFFSETFROM:-0700
TZOFFSETTO:-0600
TZNAME:MDT
DTSTART:20260308T090000
END:DAYLIGHT
BEGIN:STANDARD
TZOFFSETFROM:-0600
TZOFFSETTO:-0700
TZNAME:MST
DTSTART:20261101T080000
END:STANDARD
END:VTIMEZONE
BEGIN:VEVENT
DTSTART;TZID=America/Denver:20250621T090000
DTEND;TZID=America/Denver:20250621T150000
DTSTAMP:20260423T034914
CREATED:20250609T214550Z
LAST-MODIFIED:20250609T214550Z
UID:7991-1750496400-1750518000@anamcara.com
SUMMARY:Van Natta Scripture Circle with Rabbi Noah and Holly
DESCRIPTION:This is a Scripture Circle time led by our visiting teachers\, Rabbi Noah and Holly Ullman. Scripture Circles—an experience of community centered around the Word—are an experience of studying the Scriptures that is practical and pastoral\, scholarly and mystical\, personal and communal. Lunch will be provided\, but bring a snack to share! \nThis scripture circle meets in North Colorado Springs. Address will be given upon registration. \nRegister Here
URL:https://anamcara.com/event/van-natta-scripture-circle-with-rabbi-noah-and-holly/
CATEGORIES:Scripture Circles
ORGANIZER;CN="Anam Cara":MAILTO:admin@anamcara.com
END:VEVENT
END:VCALENDAR