BEGIN:VCALENDAR
VERSION:2.0
PRODID:-//Anam Cara Ministries - ECPv6.15.20//NONSGML v1.0//EN
CALSCALE:GREGORIAN
METHOD:PUBLISH
X-WR-CALNAME:Anam Cara Ministries
X-ORIGINAL-URL:https://anamcara.com
X-WR-CALDESC:Events for Anam Cara Ministries
REFRESH-INTERVAL;VALUE=DURATION:PT1H
X-Robots-Tag:noindex
X-PUBLISHED-TTL:PT1H
BEGIN:VTIMEZONE
TZID:America/Denver
BEGIN:DAYLIGHT
TZOFFSETFROM:-0700
TZOFFSETTO:-0600
TZNAME:MDT
DTSTART:20230312T090000
END:DAYLIGHT
BEGIN:STANDARD
TZOFFSETFROM:-0600
TZOFFSETTO:-0700
TZNAME:MST
DTSTART:20231105T080000
END:STANDARD
BEGIN:DAYLIGHT
TZOFFSETFROM:-0700
TZOFFSETTO:-0600
TZNAME:MDT
DTSTART:20240310T090000
END:DAYLIGHT
BEGIN:STANDARD
TZOFFSETFROM:-0600
TZOFFSETTO:-0700
TZNAME:MST
DTSTART:20241103T080000
END:STANDARD
BEGIN:DAYLIGHT
TZOFFSETFROM:-0700
TZOFFSETTO:-0600
TZNAME:MDT
DTSTART:20250309T090000
END:DAYLIGHT
BEGIN:STANDARD
TZOFFSETFROM:-0600
TZOFFSETTO:-0700
TZNAME:MST
DTSTART:20251102T080000
END:STANDARD
END:VTIMEZONE
BEGIN:VEVENT
DTSTART;TZID=America/Denver:20240403T170000
DTEND;TZID=America/Denver:20240403T200000
DTSTAMP:20260423T082616
CREATED:20240326T165509Z
LAST-MODIFIED:20240701T193858Z
UID:7501-1712163600-1712174400@anamcara.com
SUMMARY:Open Online Scripture Circle
DESCRIPTION:This is a Scripture Circle led by a teacher with the Anam Cara Community. Scripture Circles—an experience of community centered around the Word—are an experience of studying the Scriptures that is practical and pastoral\, scholarly and mystical\, personal and communal. Each Scripture Circle is a remarkable experience of communion with God and others—a unique experience made more so by your participation: no one else has your story\, your eyes\, and the gifts you bring to studying Scripture. \nRegister Here
URL:https://anamcara.com/event/open-online-scripture-circle-5/
LOCATION:Online Via Zoom
CATEGORIES:Scripture Circles
ATTACH;FMTTYPE=image/jpeg:https://anamcara.com/wp-content/uploads/2024/07/Open-Scripture-Circles.jpg
ORGANIZER;CN="Anam Cara":MAILTO:admin@anamcara.com
END:VEVENT
END:VCALENDAR