BEGIN:VCALENDAR
VERSION:2.0
PRODID:-//Anam Cara Ministries - ECPv6.15.20//NONSGML v1.0//EN
CALSCALE:GREGORIAN
METHOD:PUBLISH
X-WR-CALNAME:Anam Cara Ministries
X-ORIGINAL-URL:https://anamcara.com
X-WR-CALDESC:Events for Anam Cara Ministries
REFRESH-INTERVAL;VALUE=DURATION:PT1H
X-Robots-Tag:noindex
X-PUBLISHED-TTL:PT1H
BEGIN:VTIMEZONE
TZID:America/Denver
BEGIN:DAYLIGHT
TZOFFSETFROM:-0700
TZOFFSETTO:-0600
TZNAME:MDT
DTSTART:20230312T090000
END:DAYLIGHT
BEGIN:STANDARD
TZOFFSETFROM:-0600
TZOFFSETTO:-0700
TZNAME:MST
DTSTART:20231105T080000
END:STANDARD
BEGIN:DAYLIGHT
TZOFFSETFROM:-0700
TZOFFSETTO:-0600
TZNAME:MDT
DTSTART:20240310T090000
END:DAYLIGHT
BEGIN:STANDARD
TZOFFSETFROM:-0600
TZOFFSETTO:-0700
TZNAME:MST
DTSTART:20241103T080000
END:STANDARD
BEGIN:DAYLIGHT
TZOFFSETFROM:-0700
TZOFFSETTO:-0600
TZNAME:MDT
DTSTART:20250309T090000
END:DAYLIGHT
BEGIN:STANDARD
TZOFFSETFROM:-0600
TZOFFSETTO:-0700
TZNAME:MST
DTSTART:20251102T080000
END:STANDARD
END:VTIMEZONE
BEGIN:VTIMEZONE
TZID:UTC
BEGIN:STANDARD
TZOFFSETFROM:+0000
TZOFFSETTO:+0000
TZNAME:UTC
DTSTART:20230101T000000
END:STANDARD
END:VTIMEZONE
BEGIN:VEVENT
DTSTART;VALUE=DATE:20240404
DTEND;VALUE=DATE:20240416
DTSTAMP:20260423T130137
CREATED:20240326T170458Z
LAST-MODIFIED:20240326T170756Z
UID:10004808-1712188800-1713225599@anamcara.com
SUMMARY:Colorado Scripture Circles with Rabbi Noah
DESCRIPTION:Rabbi Noah will be in town leading a series of Scripture Circles for several communities that gather regularly for study\, as well as two Open Circles for anyone who would like to attend. The cost for most Circles is $45/person\, but we never want finances to be an impediment to attending. Email us at admin@anamcara.com if you’d like financial support. \nIf you would like to host a group the next time Noah is in town\, send us an email.  We’ll be happy to talk with you about joining the Scripture Circle community. \nEmail Us
URL:https://anamcara.com/event/colorado-scripture-circles-with-rabbi-noah-3/
CATEGORIES:Scripture Circles
END:VEVENT
BEGIN:VEVENT
DTSTART;TZID=UTC:20240406T090000
DTEND;TZID=UTC:20240406T120000
DTSTAMP:20260423T130137
CREATED:20240328T131832Z
LAST-MODIFIED:20240328T131832Z
UID:10004811-1712394000-1712404800@anamcara.com
SUMMARY:New Life Youth Leaders Scripture Circle
DESCRIPTION:
URL:https://anamcara.com/event/new-life-youth-leaders-scripture-circle/
CATEGORIES:Scripture Circles
END:VEVENT
BEGIN:VEVENT
DTSTART;TZID=UTC:20240406T180000
DTEND;TZID=UTC:20240406T210000
DTSTAMP:20260423T130137
CREATED:20240328T131743Z
LAST-MODIFIED:20240328T131743Z
UID:10004810-1712426400-1712437200@anamcara.com
SUMMARY:Scripture Circle with Noah
DESCRIPTION:
URL:https://anamcara.com/event/scripture-circle-with-noah/
CATEGORIES:Scripture Circles
END:VEVENT
END:VCALENDAR