BEGIN:VCALENDAR
VERSION:2.0
PRODID:-//Anam Cara Ministries - ECPv6.15.20//NONSGML v1.0//EN
CALSCALE:GREGORIAN
METHOD:PUBLISH
X-WR-CALNAME:Anam Cara Ministries
X-ORIGINAL-URL:https://anamcara.com
X-WR-CALDESC:Events for Anam Cara Ministries
REFRESH-INTERVAL;VALUE=DURATION:PT1H
X-Robots-Tag:noindex
X-PUBLISHED-TTL:PT1H
BEGIN:VTIMEZONE
TZID:America/Denver
BEGIN:DAYLIGHT
TZOFFSETFROM:-0700
TZOFFSETTO:-0600
TZNAME:MDT
DTSTART:20220313T090000
END:DAYLIGHT
BEGIN:STANDARD
TZOFFSETFROM:-0600
TZOFFSETTO:-0700
TZNAME:MST
DTSTART:20221106T080000
END:STANDARD
BEGIN:DAYLIGHT
TZOFFSETFROM:-0700
TZOFFSETTO:-0600
TZNAME:MDT
DTSTART:20230312T090000
END:DAYLIGHT
BEGIN:STANDARD
TZOFFSETFROM:-0600
TZOFFSETTO:-0700
TZNAME:MST
DTSTART:20231105T080000
END:STANDARD
BEGIN:DAYLIGHT
TZOFFSETFROM:-0700
TZOFFSETTO:-0600
TZNAME:MDT
DTSTART:20240310T090000
END:DAYLIGHT
BEGIN:STANDARD
TZOFFSETFROM:-0600
TZOFFSETTO:-0700
TZNAME:MST
DTSTART:20241103T080000
END:STANDARD
BEGIN:DAYLIGHT
TZOFFSETFROM:-0700
TZOFFSETTO:-0600
TZNAME:MDT
DTSTART:20250309T090000
END:DAYLIGHT
BEGIN:STANDARD
TZOFFSETFROM:-0600
TZOFFSETTO:-0700
TZNAME:MST
DTSTART:20251102T080000
END:STANDARD
END:VTIMEZONE
BEGIN:VTIMEZONE
TZID:America/Chicago
BEGIN:DAYLIGHT
TZOFFSETFROM:-0600
TZOFFSETTO:-0500
TZNAME:CDT
DTSTART:20230312T080000
END:DAYLIGHT
BEGIN:STANDARD
TZOFFSETFROM:-0500
TZOFFSETTO:-0600
TZNAME:CST
DTSTART:20231105T070000
END:STANDARD
BEGIN:DAYLIGHT
TZOFFSETFROM:-0600
TZOFFSETTO:-0500
TZNAME:CDT
DTSTART:20240310T080000
END:DAYLIGHT
BEGIN:STANDARD
TZOFFSETFROM:-0500
TZOFFSETTO:-0600
TZNAME:CST
DTSTART:20241103T070000
END:STANDARD
BEGIN:DAYLIGHT
TZOFFSETFROM:-0600
TZOFFSETTO:-0500
TZNAME:CDT
DTSTART:20250309T080000
END:DAYLIGHT
BEGIN:STANDARD
TZOFFSETFROM:-0500
TZOFFSETTO:-0600
TZNAME:CST
DTSTART:20251102T070000
END:STANDARD
END:VTIMEZONE
BEGIN:VEVENT
DTSTART;TZID=America/Denver:20240403T170000
DTEND;TZID=America/Denver:20240403T200000
DTSTAMP:20260423T033446
CREATED:20240326T165509Z
LAST-MODIFIED:20240701T193858Z
UID:7501-1712163600-1712174400@anamcara.com
SUMMARY:Open Online Scripture Circle
DESCRIPTION:This is a Scripture Circle led by a teacher with the Anam Cara Community. Scripture Circles—an experience of community centered around the Word—are an experience of studying the Scriptures that is practical and pastoral\, scholarly and mystical\, personal and communal. Each Scripture Circle is a remarkable experience of communion with God and others—a unique experience made more so by your participation: no one else has your story\, your eyes\, and the gifts you bring to studying Scripture. \nRegister Here
URL:https://anamcara.com/event/open-online-scripture-circle-5/
LOCATION:Online Via Zoom
CATEGORIES:Scripture Circles
ATTACH;FMTTYPE=image/jpeg:https://anamcara.com/wp-content/uploads/2024/07/Open-Scripture-Circles.jpg
ORGANIZER;CN="Anam Cara":MAILTO:admin@anamcara.com
END:VEVENT
BEGIN:VEVENT
DTSTART;TZID=America/Denver:20230114T090000
DTEND;TZID=America/Denver:20230114T120000
DTSTAMP:20260423T033446
CREATED:20230105T070145Z
LAST-MODIFIED:20240701T195515Z
UID:6536-1673686800-1673697600@anamcara.com
SUMMARY:Franklin Scripture Circle
DESCRIPTION:This is a Scripture Circle led by Jeremy Frye in Franklin\, TN. Scripture Circles are an experience of community centered around the Word—are an experience of studying the Scriptures that is practical and pastoral\, scholarly and mystical\, personal and communal. Each Scripture Circle is a remarkable experience of communion with God and others—a unique experience made more so by your participation: no one else has your story\, your eyes\, and the gifts you bring to studying Scripture. \nIf you are local to the Nashville/Franklin area and would like to attend\, you can register by clicking the link. \nRegister Here
URL:https://anamcara.com/event/franklin-scripture-circle-closed/
CATEGORIES:Scripture Circles
END:VEVENT
BEGIN:VEVENT
DTSTART;TZID=America/Chicago:20241012T170000
DTEND;TZID=America/Chicago:20241012T200000
DTSTAMP:20260423T033446
CREATED:20240921T005959Z
LAST-MODIFIED:20240921T010409Z
UID:7706-1728752400-1728763200@anamcara.com
SUMMARY:Bellevue Scripture Circle
DESCRIPTION:This study is led by Jeremy Frye in the Bellevue Neighborhood of Nashville\, TN. \nScripture Circles—a monthly experience of community centered around the Word—are an experience of studying the Scriptures that is practical and pastoral\, scholarly and mystical\, personal and communal. Each Scripture Circle is a remarkable experience of communion with God and others—a unique experience made more so by your participation: no one else has your story\, your eyes\, and the gifts you bring to the study of Scripture. \nIf you are interested in joining the group\, email Jeremy here.
URL:https://anamcara.com/event/bellevue-scripture-circle/
CATEGORIES:Scripture Circles
ORGANIZER;CN="Anam Cara":MAILTO:admin@anamcara.com
END:VEVENT
BEGIN:VEVENT
DTSTART;TZID=America/Denver:20240919T170000
DTEND;TZID=America/Denver:20240919T200000
DTSTAMP:20260423T033446
CREATED:20240701T162432Z
LAST-MODIFIED:20240701T162433Z
UID:7612-1726765200-1726776000@anamcara.com
SUMMARY:Rooted Scripture Circle with Jeremy Frye
DESCRIPTION:These Scripture Circles are meant for a specific community that is journeying together over time (a small group\, family group\, or small community). This could be over several months as a theme is explored (justice\, grace\, or love\, for example)\, or for much longer as the group dives deeper into Scripture and sacred community. \nThis Rooted Study will be lead by Jeremy Frye. We will meet on the 3rd Thursday evening of the month at 5pm MT for 6 months.  The group is limited to 12 people and must have a minimum of 10 to form. \nIf you have a group that is interested in participating in a rooted study together\, send us an email. We would be happy to talk with you about leading a study for your group. \nTo register: Click Here
URL:https://anamcara.com/event/rooted-scripture-circle-with-jeremy-frye-4-2/
LOCATION:Online Via Zoom
CATEGORIES:Scripture Circles
END:VEVENT
BEGIN:VEVENT
DTSTART;TZID=America/Denver:20241023T180000
DTEND;TZID=America/Denver:20241023T210000
DTSTAMP:20260423T033446
CREATED:20240921T004848Z
LAST-MODIFIED:20241112T183445Z
UID:7701-1729706400-1729717200@anamcara.com
SUMMARY:Westside Oaks Scripture Circle
DESCRIPTION:Scripture Circles—a monthly experience of community centered around the Word—are an experience of studying the Scriptures that is practical and pastoral\, scholarly and mystical\, personal and communal. Each Scripture Circle is a remarkable experience of communion with God and others—a unique experience made more so by your participation: no one else has your story\, your eyes\, and the gifts you bring to the study of Scripture. \n  \nRegister Here
URL:https://anamcara.com/event/westside-oaks-scripture-circle/
CATEGORIES:Scripture Circles
ATTACH;FMTTYPE=image/jpeg:https://anamcara.com/wp-content/uploads/2024/07/Open-Scripture-Circles.jpg
ORGANIZER;CN="Anam Cara":MAILTO:admin@anamcara.com
END:VEVENT
END:VCALENDAR