BEGIN:VCALENDAR
VERSION:2.0
PRODID:-//Anam Cara Ministries - ECPv6.15.20//NONSGML v1.0//EN
CALSCALE:GREGORIAN
METHOD:PUBLISH
X-ORIGINAL-URL:https://anamcara.com
X-WR-CALDESC:Events for Anam Cara Ministries
REFRESH-INTERVAL;VALUE=DURATION:PT1H
X-Robots-Tag:noindex
X-PUBLISHED-TTL:PT1H
BEGIN:VTIMEZONE
TZID:America/Denver
BEGIN:DAYLIGHT
TZOFFSETFROM:-0700
TZOFFSETTO:-0600
TZNAME:MDT
DTSTART:20220313T090000
END:DAYLIGHT
BEGIN:STANDARD
TZOFFSETFROM:-0600
TZOFFSETTO:-0700
TZNAME:MST
DTSTART:20221106T080000
END:STANDARD
BEGIN:DAYLIGHT
TZOFFSETFROM:-0700
TZOFFSETTO:-0600
TZNAME:MDT
DTSTART:20230312T090000
END:DAYLIGHT
BEGIN:STANDARD
TZOFFSETFROM:-0600
TZOFFSETTO:-0700
TZNAME:MST
DTSTART:20231105T080000
END:STANDARD
BEGIN:DAYLIGHT
TZOFFSETFROM:-0700
TZOFFSETTO:-0600
TZNAME:MDT
DTSTART:20240310T090000
END:DAYLIGHT
BEGIN:STANDARD
TZOFFSETFROM:-0600
TZOFFSETTO:-0700
TZNAME:MST
DTSTART:20241103T080000
END:STANDARD
BEGIN:DAYLIGHT
TZOFFSETFROM:-0700
TZOFFSETTO:-0600
TZNAME:MDT
DTSTART:20250309T090000
END:DAYLIGHT
BEGIN:STANDARD
TZOFFSETFROM:-0600
TZOFFSETTO:-0700
TZNAME:MST
DTSTART:20251102T080000
END:STANDARD
END:VTIMEZONE
BEGIN:VTIMEZONE
TZID:UTC
BEGIN:STANDARD
TZOFFSETFROM:+0000
TZOFFSETTO:+0000
TZNAME:UTC
DTSTART:20230101T000000
END:STANDARD
END:VTIMEZONE
BEGIN:VEVENT
DTSTART;TZID=America/Denver:20240403T170000
DTEND;TZID=America/Denver:20240403T200000
DTSTAMP:20260423T002530
CREATED:20240326T165509Z
LAST-MODIFIED:20240701T193858Z
UID:7501-1712163600-1712174400@anamcara.com
SUMMARY:Open Online Scripture Circle
DESCRIPTION:This is a Scripture Circle led by a teacher with the Anam Cara Community. Scripture Circles—an experience of community centered around the Word—are an experience of studying the Scriptures that is practical and pastoral\, scholarly and mystical\, personal and communal. Each Scripture Circle is a remarkable experience of communion with God and others—a unique experience made more so by your participation: no one else has your story\, your eyes\, and the gifts you bring to studying Scripture. \nRegister Here
URL:https://anamcara.com/event/open-online-scripture-circle-5/
LOCATION:Online Via Zoom
CATEGORIES:Scripture Circles
ATTACH;FMTTYPE=image/jpeg:https://anamcara.com/wp-content/uploads/2024/07/Open-Scripture-Circles.jpg
ORGANIZER;CN="Anam Cara":MAILTO:admin@anamcara.com
END:VEVENT
BEGIN:VEVENT
DTSTART;TZID=America/Denver:20240207T190000
DTEND;TZID=America/Denver:20240207T210000
DTSTAMP:20260423T002530
CREATED:20240126T183503Z
LAST-MODIFIED:20240126T183503Z
UID:7376-1707332400-1707339600@anamcara.com
SUMMARY:Fitler Scripture Circle (Closed)
DESCRIPTION:
URL:https://anamcara.com/event/fitler-scripture-circle-closed/
LOCATION:Online Via Zoom
CATEGORIES:Scripture Circles
ORGANIZER;CN="Anam Cara":MAILTO:admin@anamcara.com
END:VEVENT
BEGIN:VEVENT
DTSTART;VALUE=DATE:20240404
DTEND;VALUE=DATE:20240416
DTSTAMP:20260423T002530
CREATED:20240326T170458Z
LAST-MODIFIED:20240326T170756Z
UID:7504-1712188800-1713225599@anamcara.com
SUMMARY:Colorado Scripture Circles with Rabbi Noah
DESCRIPTION:Rabbi Noah will be in town leading a series of Scripture Circles for several communities that gather regularly for study\, as well as two Open Circles for anyone who would like to attend. The cost for most Circles is $45/person\, but we never want finances to be an impediment to attending. Email us at admin@anamcara.com if you’d like financial support. \nIf you would like to host a group the next time Noah is in town\, send us an email.  We’ll be happy to talk with you about joining the Scripture Circle community. \nEmail Us
URL:https://anamcara.com/event/colorado-scripture-circles-with-rabbi-noah-3/
CATEGORIES:Scripture Circles
END:VEVENT
BEGIN:VEVENT
DTSTART;TZID=UTC:20240405T180000
DTEND;TZID=UTC:20240405T210000
DTSTAMP:20260423T002530
CREATED:20240328T131631Z
LAST-MODIFIED:20240328T131631Z
UID:7514-1712340000-1712350800@anamcara.com
SUMMARY:Dale Brooks Scripture Circle
DESCRIPTION:
URL:https://anamcara.com/event/dale-brooks-scripture-circle/
CATEGORIES:Scripture Circles
END:VEVENT
BEGIN:VEVENT
DTSTART;TZID=UTC:20240406T090000
DTEND;TZID=UTC:20240406T120000
DTSTAMP:20260423T002530
CREATED:20240328T131832Z
LAST-MODIFIED:20240328T131832Z
UID:7518-1712394000-1712404800@anamcara.com
SUMMARY:New Life Youth Leaders Scripture Circle
DESCRIPTION:
URL:https://anamcara.com/event/new-life-youth-leaders-scripture-circle/
CATEGORIES:Scripture Circles
END:VEVENT
BEGIN:VEVENT
DTSTART;TZID=UTC:20240406T180000
DTEND;TZID=UTC:20240406T210000
DTSTAMP:20260423T002530
CREATED:20240328T131743Z
LAST-MODIFIED:20240328T131743Z
UID:7516-1712426400-1712437200@anamcara.com
SUMMARY:Scripture Circle with Noah
DESCRIPTION:
URL:https://anamcara.com/event/scripture-circle-with-noah/
CATEGORIES:Scripture Circles
END:VEVENT
BEGIN:VEVENT
DTSTART;TZID=UTC:20240407T180000
DTEND;TZID=UTC:20240407T210000
DTSTAMP:20260423T002530
CREATED:20240328T131947Z
LAST-MODIFIED:20240328T131947Z
UID:7520-1712512800-1712523600@anamcara.com
SUMMARY:Abeloe Scripture Circle
DESCRIPTION:
URL:https://anamcara.com/event/abeloe-scripture-circle-2/
CATEGORIES:Scripture Circles
END:VEVENT
BEGIN:VEVENT
DTSTART;TZID=UTC:20240408T180000
DTEND;TZID=UTC:20240408T210000
DTSTAMP:20260423T002530
CREATED:20240328T132050Z
LAST-MODIFIED:20240328T132050Z
UID:7522-1712599200-1712610000@anamcara.com
SUMMARY:Platt Park Scripture Circle
DESCRIPTION:
URL:https://anamcara.com/event/platt-park-scripture-circle/
CATEGORIES:Scripture Circles
END:VEVENT
BEGIN:VEVENT
DTSTART;TZID=UTC:20240409T180000
DTEND;TZID=UTC:20240409T210000
DTSTAMP:20260423T002530
CREATED:20240328T132153Z
LAST-MODIFIED:20240328T132153Z
UID:7524-1712685600-1712696400@anamcara.com
SUMMARY:Barber Scripture Circle
DESCRIPTION:
URL:https://anamcara.com/event/barber-scripture-circle/
CATEGORIES:Scripture Circles
ORGANIZER;CN="Anam Cara":MAILTO:admin@anamcara.com
END:VEVENT
BEGIN:VEVENT
DTSTART;TZID=UTC:20240410T180000
DTEND;TZID=UTC:20240410T210000
DTSTAMP:20260423T002530
CREATED:20240328T133013Z
LAST-MODIFIED:20240328T133031Z
UID:7530-1712772000-1712782800@anamcara.com
SUMMARY:Colorado Springs Women's Scripture Circle
DESCRIPTION:
URL:https://anamcara.com/event/colorado-springs-womens-scripture-circle/
CATEGORIES:Scripture Circles
ORGANIZER;CN="Anam Cara":MAILTO:admin@anamcara.com
END:VEVENT
BEGIN:VEVENT
DTSTART;TZID=America/Denver:20240411T180000
DTEND;TZID=America/Denver:20240411T210000
DTSTAMP:20260423T002530
CREATED:20240326T171005Z
LAST-MODIFIED:20240326T171015Z
UID:7503-1712858400-1712869200@anamcara.com
SUMMARY:Colorado Springs Scripture Circle with Rabbi Noah (Open)
DESCRIPTION:EXPERIENCE SCRIPTURE IN AN ANCIENT\, NEW WAY:\nBOTH COMMUNAL AND PERSONAL\, INFURIATING AND CLARIFYING\, TEACHING MOVING THROUGH SPACE AND TIME TOWARDS A TARGET.*\nScripture Circles—a regular gathering of community centered around the Word—are an experience of studying the Scriptures that is practical and pastoral\, scholarly and mystical\, personal and communal. Each Scripture Circle is a remarkable experience of communion with God and others—a unique journey made more so by your participation: no one else has your story\, your eyes\, and the gifts you bring to the study of Scripture. \nJoin us for an evening of being in the Word together in an experience of community\, learning\, spiritual formation\, and encounter with God that is unlike any other. Led by our friend and brother\, Rabbi Noah Ullman\, leads through a depth of cultural\, historical\, Biblical\, and personal wisdom. \n\n  \n  \n*The word Torah (תּוֹרָה) might best be translated as “teaching moving through time and space towards a target. In Scripture Circles we explore why “the first five books of the Bible” or “the teachings of Moses” might not be as helpful a translation of the word torah as a more verb-based understanding. \n 
URL:https://anamcara.com/event/colorado-springs-scripture-circle-with-rabbi-noah-open-6/
CATEGORIES:Scripture Circles
ORGANIZER;CN="Anam Cara":MAILTO:admin@anamcara.com
END:VEVENT
BEGIN:VEVENT
DTSTART;TZID=UTC:20240411T180000
DTEND;TZID=UTC:20240411T210000
DTSTAMP:20260423T002530
CREATED:20240328T132545Z
LAST-MODIFIED:20240328T132545Z
UID:7526-1712858400-1712869200@anamcara.com
SUMMARY:Open Scripture Circle
DESCRIPTION:Register Here
URL:https://anamcara.com/event/open-scripture-circle/
CATEGORIES:Scripture Circles
ORGANIZER;CN="Anam Cara":MAILTO:admin@anamcara.com
END:VEVENT
BEGIN:VEVENT
DTSTART;TZID=UTC:20240412T180000
DTEND;TZID=UTC:20240412T210000
DTSTAMP:20260423T002530
CREATED:20240328T132704Z
LAST-MODIFIED:20240328T132704Z
UID:7528-1712944800-1712955600@anamcara.com
SUMMARY:Jones Scripture Circle
DESCRIPTION:
URL:https://anamcara.com/event/jones-scripture-circle/
CATEGORIES:Scripture Circles
ORGANIZER;CN="Anam Cara":MAILTO:admin@anamcara.com
END:VEVENT
BEGIN:VEVENT
DTSTART;TZID=America/Denver:20230114T090000
DTEND;TZID=America/Denver:20230114T120000
DTSTAMP:20260423T002530
CREATED:20230105T070145Z
LAST-MODIFIED:20240701T195515Z
UID:6536-1673686800-1673697600@anamcara.com
SUMMARY:Franklin Scripture Circle
DESCRIPTION:This is a Scripture Circle led by Jeremy Frye in Franklin\, TN. Scripture Circles are an experience of community centered around the Word—are an experience of studying the Scriptures that is practical and pastoral\, scholarly and mystical\, personal and communal. Each Scripture Circle is a remarkable experience of communion with God and others—a unique experience made more so by your participation: no one else has your story\, your eyes\, and the gifts you bring to studying Scripture. \nIf you are local to the Nashville/Franklin area and would like to attend\, you can register by clicking the link. \nRegister Here
URL:https://anamcara.com/event/franklin-scripture-circle-closed/
CATEGORIES:Scripture Circles
END:VEVENT
BEGIN:VEVENT
DTSTART;TZID=America/Denver:20240210T090000
DTEND;TZID=America/Denver:20240210T120000
DTSTAMP:20260423T002530
CREATED:20240126T184003Z
LAST-MODIFIED:20240126T184003Z
UID:7379-1707555600-1707566400@anamcara.com
SUMMARY:#WTH Scripture Circle (Closed)
DESCRIPTION:
URL:https://anamcara.com/event/wth-scripture-circle-closed-4/
CATEGORIES:Scripture Circles
ORGANIZER;CN="Anam Cara":MAILTO:admin@anamcara.com
END:VEVENT
BEGIN:VEVENT
DTSTART;TZID=America/Denver:20240210T130000
DTEND;TZID=America/Denver:20240210T160000
DTSTAMP:20260423T002530
CREATED:20240126T184142Z
LAST-MODIFIED:20240126T184340Z
UID:7383-1707570000-1707580800@anamcara.com
SUMMARY:TNC Scripture Circle (Closed)
DESCRIPTION:
URL:https://anamcara.com/event/tnc-scripture-circle-closed/
CATEGORIES:Scripture Circles
ORGANIZER;CN="Anam Cara":MAILTO:admin@anamcara.com
END:VEVENT
BEGIN:VEVENT
DTSTART;TZID=America/Denver:20240210T180000
DTEND;TZID=America/Denver:20240210T210000
DTSTAMP:20260423T002530
CREATED:20240126T184556Z
LAST-MODIFIED:20240126T184613Z
UID:7385-1707588000-1707598800@anamcara.com
SUMMARY:Boulder Scripture Circle
DESCRIPTION:Contact: leah@allsoulsboulder.org to register
URL:https://anamcara.com/event/boulder-scripture-circle-3/
CATEGORIES:Scripture Circles
ORGANIZER;CN="Anam Cara":MAILTO:admin@anamcara.com
END:VEVENT
BEGIN:VEVENT
DTSTART;TZID=UTC:20240414T130000
DTEND;TZID=UTC:20240414T160000
DTSTAMP:20260423T002530
CREATED:20240412T140625Z
LAST-MODIFIED:20240412T140625Z
UID:7552-1713099600-1713110400@anamcara.com
SUMMARY:Open Lakewood Scripture Circle with Rabbi Noah
DESCRIPTION:
URL:https://anamcara.com/event/lakewood-scripture-circle-2/
CATEGORIES:Scripture Circles
ORGANIZER;CN="Anam Cara":MAILTO:admin@anamcara.com
END:VEVENT
END:VCALENDAR