BEGIN:VCALENDAR
VERSION:2.0
PRODID:-//Anam Cara Ministries - ECPv6.15.20//NONSGML v1.0//EN
CALSCALE:GREGORIAN
METHOD:PUBLISH
X-WR-CALNAME:Anam Cara Ministries
X-ORIGINAL-URL:https://anamcara.com
X-WR-CALDESC:Events for Anam Cara Ministries
REFRESH-INTERVAL;VALUE=DURATION:PT1H
X-Robots-Tag:noindex
X-PUBLISHED-TTL:PT1H
BEGIN:VTIMEZONE
TZID:America/Denver
BEGIN:DAYLIGHT
TZOFFSETFROM:-0700
TZOFFSETTO:-0600
TZNAME:MDT
DTSTART:20220313T090000
END:DAYLIGHT
BEGIN:STANDARD
TZOFFSETFROM:-0600
TZOFFSETTO:-0700
TZNAME:MST
DTSTART:20221106T080000
END:STANDARD
BEGIN:DAYLIGHT
TZOFFSETFROM:-0700
TZOFFSETTO:-0600
TZNAME:MDT
DTSTART:20230312T090000
END:DAYLIGHT
BEGIN:STANDARD
TZOFFSETFROM:-0600
TZOFFSETTO:-0700
TZNAME:MST
DTSTART:20231105T080000
END:STANDARD
BEGIN:DAYLIGHT
TZOFFSETFROM:-0700
TZOFFSETTO:-0600
TZNAME:MDT
DTSTART:20240310T090000
END:DAYLIGHT
BEGIN:STANDARD
TZOFFSETFROM:-0600
TZOFFSETTO:-0700
TZNAME:MST
DTSTART:20241103T080000
END:STANDARD
END:VTIMEZONE
BEGIN:VEVENT
DTSTART;TZID=America/Denver:20231004T170000
DTEND;TZID=America/Denver:20231004T200000
DTSTAMP:20260423T062602
CREATED:20230907T172705Z
LAST-MODIFIED:20230907T172705Z
UID:7091-1696438800-1696449600@anamcara.com
SUMMARY:Open Online Scripture Circle
DESCRIPTION:This is a Scripture Circle led by a teacher with the Anam Cara Community. Scripture Circles—an experience of community centered around the Word—are an experience of studying the Scriptures that is practical and pastoral\, scholarly and mystical\, personal and communal. Each Scripture Circle is a remarkable experience of communion with God and others—a unique experience made more so by your participation: no one else has your story\, your eyes\, and the gifts you bring to studying Scripture. \nRegister Here
URL:https://anamcara.com/event/open-online-scripture-circle-3/
CATEGORIES:Scripture Circles
END:VEVENT
BEGIN:VEVENT
DTSTART;TZID=America/Denver:20230114T090000
DTEND;TZID=America/Denver:20230114T120000
DTSTAMP:20260423T062602
CREATED:20230105T070145Z
LAST-MODIFIED:20240701T195515Z
UID:6536-1673686800-1673697600@anamcara.com
SUMMARY:Franklin Scripture Circle
DESCRIPTION:This is a Scripture Circle led by Jeremy Frye in Franklin\, TN. Scripture Circles are an experience of community centered around the Word—are an experience of studying the Scriptures that is practical and pastoral\, scholarly and mystical\, personal and communal. Each Scripture Circle is a remarkable experience of communion with God and others—a unique experience made more so by your participation: no one else has your story\, your eyes\, and the gifts you bring to studying Scripture. \nIf you are local to the Nashville/Franklin area and would like to attend\, you can register by clicking the link. \nRegister Here
URL:https://anamcara.com/event/franklin-scripture-circle-closed/
CATEGORIES:Scripture Circles
END:VEVENT
BEGIN:VEVENT
DTSTART;TZID=America/Denver:20231019T180000
DTEND;TZID=America/Denver:20231019T210000
DTSTAMP:20260423T062602
CREATED:20230920T043156Z
LAST-MODIFIED:20230920T043156Z
UID:7191-1697738400-1697749200@anamcara.com
SUMMARY:Monthly Scripture Circle with Julie Stoll
DESCRIPTION:Join us for a scripture circle study where we delve deep into the ancient texts and explore the original context and language in sacred community. In this discussion\, we encourage participants to bring their personal experiences and insights\, as we believe that everyone’s voice and experience are important in helping us truly understand the scripture and the impact in our lives.\n\nRegister Here
URL:https://anamcara.com/event/monthly-scripture-circle-with-julie-stoll-4/
LOCATION:Online Via Zoom
CATEGORIES:Scripture Circles
END:VEVENT
BEGIN:VEVENT
DTSTART;TZID=America/Denver:20230712T170000
DTEND;TZID=America/Denver:20230712T200000
DTSTAMP:20260423T062602
CREATED:20230629T191159Z
LAST-MODIFIED:20230907T171520Z
UID:6809-1689181200-1689192000@anamcara.com
SUMMARY:Rooted Scripture Circle with Jeremy Frye
DESCRIPTION:These Scripture Circles are meant for a specific community that is traveling together over time (a small group\, family group\, or small community). This could be over several months as a theme is explored (justice\, grace\, or love\, for example)\, or for much longer as the group dives deeper into Scripture and sacred community. \nThis Rooted Study will be lead by Jeremy Frye. We will meet on the 2nd Wednesday evening of the month at 5pm MT for 6 months.  The group is limited to 12 people. \nIf you have a group that is interested in participating in a rooted study together\, send us an email. We would be happy to talk with you about leading a study for your group.
URL:https://anamcara.com/event/rooted-scripture-circle-with-jeremy-frye/
CATEGORIES:Scripture Circles
END:VEVENT
BEGIN:VEVENT
DTSTART;TZID=America/Denver:20230914T170000
DTEND;TZID=America/Denver:20230914T200000
DTSTAMP:20260423T062602
CREATED:20230907T004016Z
LAST-MODIFIED:20230907T171946Z
UID:7080-1694710800-1694721600@anamcara.com
SUMMARY:Rooted Scripture Circle with Jeremy Frye
DESCRIPTION:These Scripture Circles are meant for a specific community that is traveling together over time (a small group\, family group\, or small community). This could be over several months as a theme is explored (justice\, grace\, or love\, for example)\, or for much longer as the group dives deeper into Scripture and sacred community. \nThis Rooted Study will be lead by Jeremy Frye. We will meet on the 2nd Thursday evening of the month at 5pm MT for 6 months.  The group is limited to 12 people. \nIf you have a group that is interested in participating in a rooted study together\, send us an email. We would be happy to talk with you about leading a study for your group.
URL:https://anamcara.com/event/rooted-scripture-circle-with-jeremy-frye-2/
LOCATION:Online Via Zoom
CATEGORIES:Scripture Circles
ORGANIZER;CN="Anam Cara":MAILTO:admin@anamcara.com
END:VEVENT
BEGIN:VEVENT
DTSTART;TZID=America/Denver:20230619T120000
DTEND;TZID=America/Denver:20230619T133000
DTSTAMP:20260423T062602
CREATED:20230920T042209Z
LAST-MODIFIED:20230921T231459Z
UID:7184-1687176000-1687181400@anamcara.com
SUMMARY:Monthly Scripture Circle with Julie Stoll
DESCRIPTION:Join Julie Stoll for this open online scripture circle. \nScripture circles provide a space for deep reflection and contemplation\, allowing participants to engage with the Creator\, themselves\, and concepts contained within the scriptures. By exploring these texts in a collective setting\, participants are able to gain new perspectives\, share insights\, and deepen their understanding of the material. \nRegister Here
URL:https://anamcara.com/event/monthly-scripture-circle-with-julie-stoll-3/
LOCATION:Online Via Zoom
CATEGORIES:Scripture Circles
END:VEVENT
END:VCALENDAR