BEGIN:VCALENDAR
VERSION:2.0
PRODID:-//Anam Cara Ministries - ECPv6.15.20//NONSGML v1.0//EN
CALSCALE:GREGORIAN
METHOD:PUBLISH
X-ORIGINAL-URL:https://anamcara.com
X-WR-CALDESC:Events for Anam Cara Ministries
REFRESH-INTERVAL;VALUE=DURATION:PT1H
X-Robots-Tag:noindex
X-PUBLISHED-TTL:PT1H
BEGIN:VTIMEZONE
TZID:UTC
BEGIN:STANDARD
TZOFFSETFROM:+0000
TZOFFSETTO:+0000
TZNAME:UTC
DTSTART:20230101T000000
END:STANDARD
END:VTIMEZONE
BEGIN:VEVENT
DTSTART;TZID=UTC:20240816T100000
DTEND;TZID=UTC:20240816T120000
DTSTAMP:20260423T100457
CREATED:20240117T174554Z
LAST-MODIFIED:20240812T145629Z
UID:7367-1723802400-1723809600@anamcara.com
SUMMARY:Behind the Pulpit: Accompanying Pastors & Leaders in Spiritual Direction
DESCRIPTION:A workshop for spiritual directors interested in or currently accompanying pastors\, priests\, and leaders in spiritual direction. Join our presenters\, Jeremy Frye and Vanessa Caruso\, to explore the unique needs and challenges of accompanying pastors\, priests\, and leaders in spiritual direction. Jeremy was a pastor for 18+ years before joining Anam Cara\, and Vanessa is a supervisor with Together in the Mystery who holds a unique space for directors who journey alongside leaders in this way. Bring your curiosity\, frustrations\, joys\, and questions for this learning experience. \nScholarships available. \nRegister Here
URL:https://anamcara.com/event/behind-the-pulpit-accompanying-pastors-leaders-in-spiritual-direction/
LOCATION:Online Via Zoom
CATEGORIES:Peregrini Workshops
ATTACH;FMTTYPE=image/png:https://anamcara.com/wp-content/uploads/2024/01/Copy-of-Spiritual-Direction-with-Ministry-Leaders-Pastors-2.png
ORGANIZER;CN="Anam Cara":MAILTO:admin@anamcara.com
END:VEVENT
END:VCALENDAR